BEGIN:VCALENDAR
VERSION:2.0
PRODID:-//ChamberMaster//Event Calendar 2.0//EN
METHOD:PUBLISH
X-PUBLISHED-TTL:P3D
REFRESH-INTERVAL:P3D
CALSCALE:GREGORIAN
BEGIN:VEVENT
DTSTART;VALUE=DATE:20220426
DTEND;VALUE=DATE:20220427
TRANSP:TRANSPARENT
X-MICROSOFT-CDO-ALLDAYEVENT:TRUE
SUMMARY:Women's Board Fundraiser at the Greene Turtle
DESCRIPTION:Every Tuesday in April\, the Women's Board will be at the Greene Turtle in Olney! \n\nThe Greene Turtle will donate 20% of the sale to the Women's Board which supports MedStar Montgomery Medical Center. \n\nWe thank you for your support and look forward to seeing you in person!\n\n\n\nPresent this flyer to your server!\n\n\n\n\n\nPresent the flyer\, pull it up on your phone\, or tell your server and
X-ALT-DESC;FMTTYPE=text/html:<span style="font-size:16px\;"><span style="font-family:comic sans ms\;"><span font-size:="" style="color: rgb(5\, 5\, 5)\;" white-space:="">Every Tuesday in April\, the Women&#39\;s Board will be at the Greene Turtle in Olney!&nbsp\;</span><br />\n<span style="color: rgb(66\, 66\, 66)\;">The Greene Turtle will donate 20% of the sale to the Women&rsquo\;s Board which supports MedStar Montgomery Medical Center.&nbsp\;</span><br />\n<span font-size:="" style="color: rgb(5\, 5\, 5)\;" white-space:="">We thank you for your support and look forward to seeing you in person!</span></span></span><br />\n<br />\n<span style="font-size:18px\;"><span style="font-family:comic sans ms\;"><span font-size:="" style="color: rgb(5\, 5\, 5)\;" white-space:=""><span style="font-size:16px\;"><span style="font-family:arial\;"><span style="font-size:20px\;">Present this </span></span></span></span><span font-size:="" white-space:=""><span style="font-size:16px\;"><span style="font-family:arial\;"><span style="font-size:20px\;"><a href="https://www.facebook.com/WomensBoardMedStarMontgomeryMedical/photos/a.638938693162007/1859822034406994/"><span style="color:#FF0000\;">flyer</span></a></span></span></span></span><span font-size:="" style="color: rgb(5\, 5\, 5)\;" white-space:=""><span style="font-size:16px\;"><span style="font-family:arial\;"><span style="font-size:20px\;"> to your server!</span></span></span></span></span></span><br />\n<br />\n<br />\n<span style="font-size:16px\;"><span style="font-family:arial\;"><span style="color: rgb(66\, 66\, 66)\;">Present the flyer\, pull it up on your phone\, or tell your server and&nbsp\;</span></span></span>
LOCATION:18101 Town Center Drive in the Fair Hill shopping center
UID:e.1793.5533
SEQUENCE:3
DTSTAMP:20260422T092630Z
URL:https://business.olneymd.org/events/details/women-s-board-fundraiser-at-the-greene-turtle-5533
END:VEVENT

END:VCALENDAR
