BEGIN:VCALENDAR
VERSION:2.0
PRODID:-//ChamberMaster//Event Calendar 2.0//EN
METHOD:PUBLISH
X-PUBLISHED-TTL:P3D
REFRESH-INTERVAL:P3D
CALSCALE:GREGORIAN
BEGIN:VEVENT
DTSTART:20220824T173000Z
DTEND:20220824T183000Z
X-MICROSOFT-CDO-ALLDAYEVENT:FALSE
SUMMARY:Winter Growth Pet Parade
DESCRIPTION:Bring your furry friend(s) along and join Winter Growth's residents and Day Program participants for an end-of-summer Pet Parade & Ice Cream Social. The parade will kick-off at 1:45pm\, at 18110 Prince Philip Drive - Olney - right across from MedStar Montgomery Medical Center. Email colleen.konstanzer@wintergrowthinc.org to let us know you can make it.
X-ALT-DESC;FMTTYPE=text/html:<span style="font-family:ubuntu\,arial\,sans-serif\; font-size:14px">Bring your furry friend(s) along and join Winter Growth&#39\;s residents and Day Program participants for an end-of-summer Pet Parade &amp\; Ice Cream Social. The parade will kick-off at 1:45pm\, at 18110 Prince Philip Drive - Olney - right across from MedStar Montgomery Medical Center.&nbsp\;</span><span style="font-family:ubuntu\,arial\,sans-serif\; font-size:14px">Email colleen.konstanzer@wintergrowthinc.org to let us know you can make it.</span>
LOCATION:18110 Prince Philip Drive\, Olney
UID:e.1793.5685
SEQUENCE:3
DTSTAMP:20260422T005101Z
URL:https://business.olneymd.org/events/details/winter-growth-pet-parade-5685
END:VEVENT

END:VCALENDAR
