BEGIN:VCALENDAR
VERSION:2.0
PRODID:-//ChamberMaster//Event Calendar 2.0//EN
METHOD:PUBLISH
X-PUBLISHED-TTL:P3D
REFRESH-INTERVAL:P3D
CALSCALE:GREGORIAN
BEGIN:VEVENT
DTSTART:20250821T210000Z
DTEND:20250821T230000Z
X-MICROSOFT-CDO-ALLDAYEVENT:FALSE
SUMMARY:We're invited...August Mixer with Rockville Chamber
DESCRIPTION:We're invited to join the Rockville Chamber for their August Cocktails & Commerce at The Manor at Silo Falls\n\n\n\nRegister via the link below if you'd like to attend. The Rockville Chamber of Commerce is charging $20 per attendee.\n\n\n\nhttps://business.rockvillechamber.org/events/details/cocktails-commerce-08-21-2025-24679\n\nEnjoy an evening of networking\, art\, and ambiance at the stunning Manor at Silo Falls! Mingle with fellow business professionals and community members as we enjoy lite fair and a cash bar.
X-ALT-DESC;FMTTYPE=text/html:<p data-end="297" data-start="160" style="box-sizing: border-box\; margin: 0px 0px 1rem\; color: rgb(20\, 20\, 20)\; font-family: Tahoma\, Helvetica\, Geneva\, Swiss\, SunSans-Regular\; font-size: 14px\; text-align: center\;"><span data-end="231" data-start="160" style="box-sizing: border-box\; font-weight: bolder\;">We&#39\;re invited to join the Rockville Chamber for their August Cocktails &amp\; Commerce at The Manor at Silo Falls</span><br />\n<br data-end="234" data-start="231" style="box-sizing: border-box\;" />\n<span data-end="297" data-start="234" style="box-sizing: border-box\; font-weight: bolder\;">Register via the link below if you&#39\;d like to attend. The Rockville Chamber of Commerce is&nbsp\;charging $20 per attendee.</span><br />\n<br />\nhttps://business.rockvillechamber.org/events/details/cocktails-commerce-08-21-2025-24679</p>\n\n<p data-end="598" data-start="299" style="box-sizing: border-box\; margin: 0px 0px 1rem\; color: rgb(20\, 20\, 20)\; font-family: Tahoma\, Helvetica\, Geneva\, Swiss\, SunSans-Regular\; font-size: 14px\;">Enjoy an evening of networking\, art\, and ambiance at the stunning Manor at Silo Falls! Mingle with fellow business professionals and community members as we enjoy lite fair and a cash bar.</p>\n
LOCATION:
UID:e.1793.7023
SEQUENCE:3
DTSTAMP:20260421T114452Z
URL:https://business.olneymd.org/events/details/we-re-invited-august-mixer-with-rockville-chamber-7023
END:VEVENT

END:VCALENDAR
