BEGIN:VCALENDAR
VERSION:2.0
PRODID:-//ChamberMaster//Event Calendar 2.0//EN
METHOD:PUBLISH
X-PUBLISHED-TTL:P3D
REFRESH-INTERVAL:P3D
CALSCALE:GREGORIAN
BEGIN:VEVENT
DTSTART:20250623T140000Z
DTEND:20250623T180000Z
X-MICROSOFT-CDO-ALLDAYEVENT:FALSE
SUMMARY:Waste Reduction and Recycling Seminar for Businesses
DESCRIPTION:The Montgomery County\, MD Department of Environmental Protection\, Recycling and Resource Management Division\, Waste Reduction and Recycling Section invites you to join our informative in-person seminar. At this event\, you will learn how to properly dispose of certain specialized materials such as batteries\, electronics and food scraps. You will also learn the process for businesses to drop-off materials for recycling at the Shady Grove Transfer Station. Breakfast and lunch will be provided.\n\n\n\nRegister here.
X-ALT-DESC;FMTTYPE=text/html:<!--StartFragment--><span style="font-family:helvetica\; font-size:15px">The Montgomery County\, MD Department of Environmental Protection\, Recycling and Resource Management Division\, Waste Reduction and Recycling Section invites you to join our informative in-person seminar. At this event\, you will learn how to properly dispose of certain specialized materials such as batteries\, electronics and food scraps. You will also learn the process for businesses to drop-off materials for recycling at the Shady Grove Transfer Station. Breakfast and lunch will be provided.<br />\n<br />\nRegister <a href="https://www.montgomerycountymd.gov/DEP/trash-recycling/recycle-at-work/seminars.html">here</a>.</span><br />\n<!--EndFragment-->
LOCATION:Bethesda Marriott 5151 Pooks Hill Rd. Bethesda\, MD 20814 Register at https://www.montgomerycountymd.gov/DEP/trash-recycling/recycle-at-work/seminars.html.
UID:e.1793.6996
SEQUENCE:3
DTSTAMP:20260419T152103Z
URL:https://business.olneymd.org/events/details/waste-reduction-and-recycling-seminar-for-businesses-6996
END:VEVENT

END:VCALENDAR
