BEGIN:VCALENDAR
VERSION:2.0
PRODID:-//ChamberMaster//Event Calendar 2.0//EN
METHOD:PUBLISH
X-PUBLISHED-TTL:P3D
REFRESH-INTERVAL:P3D
CALSCALE:GREGORIAN
BEGIN:VEVENT
DTSTART:20250412T133000Z
DTEND:20250412T160000Z
X-MICROSOFT-CDO-ALLDAYEVENT:FALSE
SUMMARY:Wake Up to Wellness: Easter Egg Hunt & Springtime Fun (FREE)
DESCRIPTION:Come celebrate the season with us at Wake Up to Wellness! We'll start the morning at 9:45 AM with a gentle yoga stretch led by Ieasha - just the thing to wake up our bodies and get ready for a fun-filled mix of springtime activities:\n\n\n\n?? Isabel Tom and her helpers will share their Grandkid Investigator Kit - a fun way for kids and grandparents to connect.\n\n\n\n?? Home Helpers Home Care of Olney and Frederick Health Hospice will offer healthy morning snacks and drinks to fuel the fun.\n\n\n\n?? Karen Glickman from Preferred Hearing will offer hearing screenings and some fun giveaways for the little ones.\n\n\n\nAnd\, of course\, the morning wouldn't be complete without an Easter Egg Hunt! Bring your baskets\, your smiles\, and your sense of adventure. We can't wait to share this special time with you! ??\n\n\n\n RSVP: becky.donahue@wintergrowthinc.org
X-ALT-DESC;FMTTYPE=text/html:Come celebrate the season with us at Wake Up to Wellness! We&rsquo\;ll start the morning at 9:45 AM with a gentle yoga stretch led by Ieasha - just the thing to wake up our bodies and get ready for a fun-filled mix of springtime activities:<br />\n<br />\n?? Isabel Tom and her helpers will share their Grandkid Investigator Kit - a fun way for kids and grandparents to connect.<br />\n<br />\n?? Home Helpers Home Care of Olney and Frederick Health Hospice will offer healthy morning snacks and drinks to fuel the fun.<br />\n<br />\n?? Karen Glickman from Preferred Hearing will offer hearing screenings and some fun giveaways for the little ones.<br />\n<br />\nAnd\, of course\, the morning wouldn&rsquo\;t be complete without an Easter Egg Hunt! Bring your baskets\, your smiles\, and your sense of adventure. We can&rsquo\;t wait to share this special time with you! ??<br />\n<br />\n&nbsp\;RSVP: becky.donahue@wintergrowthinc.org
LOCATION:Winter Growth - 18110 Prince Philip Drive - Olney\, MD 20832
UID:e.1793.6630
SEQUENCE:3
DTSTAMP:20260421T114223Z
URL:https://business.olneymd.org/events/details/wake-up-to-wellness-easter-egg-hunt-springtime-fun-free-04-12-2025-6630
END:VEVENT

END:VCALENDAR
