BEGIN:VCALENDAR
VERSION:2.0
PRODID:-//ChamberMaster//Event Calendar 2.0//EN
METHOD:PUBLISH
X-PUBLISHED-TTL:P3D
REFRESH-INTERVAL:P3D
CALSCALE:GREGORIAN
BEGIN:VEVENT
DTSTART:20220321T190000Z
DTEND:20220321T200000Z
X-MICROSOFT-CDO-ALLDAYEVENT:FALSE
SUMMARY:Talk of the Town: MedStar Montgomery Center for Successful Aging (CSA)
DESCRIPTION:CSA offers an interdisciplinary care model that reduces and prevents the frustration of dealing with uncoordinated care. With its unique collaboration of geriatric clinical specialists\, it's a one-stop shop for aging adults.\n\nJoin us to learn more about the NEW MedStar Montgomery Center for Successful Aging (CSA):\n\n  Comprehensive Geriatric Primary Care\n\n  Coordinated Care\n\n  Caregiver Support\n\n  Geriatric Consultation Service\n\nPlease Click Here To Register by Friday\, March 18th
X-ALT-DESC;FMTTYPE=text/html:<p><span dir="ltr">CSA offers an interdisciplinary care model that&nbsp\;</span><span dir="ltr">reduces and prevents the frustration of dealing&nbsp\;</span><span dir="ltr">with uncoordinated care. With its unique&nbsp\;</span><span dir="ltr">collaboration of geriatric clinical specialists\, it&rsquo\;s&nbsp\;</span><span dir="ltr">a one-stop shop for aging adults.</span></p>\n\n<p><span dir="ltr">Join us to learn more about the NEW MedStar Montgomery Center for Successful Aging (CSA):<br />\n&bull\; Comprehensive Geriatric Primary Care<br />\n&bull\; Coordinated Care<br />\n&bull\; Caregiver Support<br />\n&bull\; Geriatric Consultation Service</span></p>\n\n<p><a href="https://www.olneymemorycare.com/communities/olney-assisted-living/events/details/4520/talk-of-the-town-medstar-montgomery-center-for-successful-aging-csa"><em><span dir="ltr">Please Click Here To Register by Friday\, March 18th</span></em></a></p>\n
LOCATION:Webinar
UID:e.1793.5526
SEQUENCE:3
DTSTAMP:20260422T093314Z
URL:https://business.olneymd.org/events/details/talk-of-the-town-medstar-montgomery-center-for-successful-aging-csa-5526
END:VEVENT

END:VCALENDAR
