BEGIN:VCALENDAR
VERSION:2.0
PRODID:-//ChamberMaster//Event Calendar 2.0//EN
METHOD:PUBLISH
X-PUBLISHED-TTL:P3D
REFRESH-INTERVAL:P3D
CALSCALE:GREGORIAN
BEGIN:VEVENT
DTSTART:20220521T130000Z
DTEND:20220521T170000Z
X-MICROSOFT-CDO-ALLDAYEVENT:FALSE
SUMMARY:Spring Clean Out - Shred and Donation Day at Olney Assisted Living
DESCRIPTION:Free Community Donation and Shred Day\n\n\n\nOlney Assisted Living is hosting a free community donation and shredding day on May 21st from 9:00am until 1:00pm. \n\n\n\nWise Moves\, along with Habitat for Humanity\, will be collecting donations of furniture and household items.\n\nNotes:\n\n	Donations must be in good condition.\n	Unable to accept:  Oversize items such as mattresses\, china cabinets\, oversize furniture\, nonflat screen TV's\, pianos\, etc...\n\n\n\nA document shredding truck will be on site\n\n123 Junk will have a truck on-site for items you wish to discard
X-ALT-DESC;FMTTYPE=text/html:Free Community Donation and Shred Day<br />\n<br />\nOlney Assisted Living is hosting a free community donation and shredding day on May 21st from 9:00am until 1:00pm.&nbsp\;<br />\n<br />\nWise Moves\, along with Habitat for Humanity\, will be collecting donations of furniture and household items.<br />\nNotes:\n<ul>\n	<li>Donations must be in good condition.</li>\n	<li>Unable to accept:&nbsp\; Oversize items such as mattresses\, china cabinets\, oversize furniture\, nonflat screen TV&#39\;s\, pianos\, etc...</li>\n</ul>\n<br />\nA document shredding truck will be on site<br />\n123 Junk will have a truck on-site for items you wish to discard
LOCATION:Olney Assisted Living\, 16940 Georgia Avenue\, Olney\, MD 20832
UID:e.1793.5545
SEQUENCE:3
DTSTAMP:20260422T055851Z
URL:https://business.olneymd.org/events/details/spring-clean-out-shred-and-donation-day-at-olney-assisted-living-5545
END:VEVENT

END:VCALENDAR
