BEGIN:VCALENDAR
VERSION:2.0
PRODID:-//ChamberMaster//Event Calendar 2.0//EN
METHOD:PUBLISH
X-PUBLISHED-TTL:P3D
REFRESH-INTERVAL:P3D
CALSCALE:GREGORIAN
BEGIN:VEVENT
DTSTART:20250928T200000Z
DTEND:20250928T230000Z
X-MICROSOFT-CDO-ALLDAYEVENT:FALSE
SUMMARY:Sip\, Rock\, & Ride
DESCRIPTION:Join us for an unforgettable evening at the National Capital Trolley Museum as we present Sip\, Rock\, and Ride   our annual fundraising celebration!\n\n\n	Enjoy live music\n	Savor local food\n	Sip on craft beer and wine\n	And cap off the night with sunset streetcar rides through history!\n\n\nThis one-of-a-kind event supports the museum's preservation efforts and educational programs   all while giving you a chance to unwind\, connect\, and rock out in a truly unique setting.\n\nDon't miss this chance to sip\, rock\, and ride into the evening with us!
X-ALT-DESC;FMTTYPE=text/html:<p>Join us for an unforgettable evening at the <strong>National Capital Trolley Museum</strong> as we present <strong>Sip\, Rock\, and Ride</strong> &mdash\; our <strong>annual fundraising celebration</strong>!</p>\n\n<ul>\n	<li><strong>Enjoy live music</strong></li>\n	<li><strong>Savor local food</strong></li>\n	<li><strong>Sip on craft beer and wine</strong></li>\n	<li><strong>And cap off the night with sunset streetcar rides through history!</strong></li>\n</ul>\n\n<p>This one-of-a-kind event supports the museum&rsquo\;s preservation efforts and educational programs &mdash\; all while giving you a chance to unwind\, connect\, and rock out in a truly unique setting.</p>\n\n<p>Don&rsquo\;t miss this chance to sip\, rock\, and ride into the evening with us!</p>\n
LOCATION:Where: National Capital Trolley Museum\, 1313 Bonifant Road\, Silver Spring\, MD 20905
UID:e.1793.7059
SEQUENCE:3
DTSTAMP:20260421T125640Z
URL:https://business.olneymd.org/events/details/sip-rock-ride-7059
END:VEVENT

END:VCALENDAR
