BEGIN:VCALENDAR
VERSION:2.0
PRODID:-//ChamberMaster//Event Calendar 2.0//EN
METHOD:PUBLISH
X-PUBLISHED-TTL:P3D
REFRESH-INTERVAL:P3D
CALSCALE:GREGORIAN
BEGIN:VEVENT
DTSTART:20220728T200000Z
DTEND:20220728T220000Z
X-MICROSOFT-CDO-ALLDAYEVENT:FALSE
SUMMARY:Sip & Play Networking Event
DESCRIPTION:Hosted by Olney Assisted Living and SYNERGY HomeCare\n\nJoin us for a fun time networking with professionals while enjoying wine and finger foods. For your entertainment pleasure\, we'll have karaoke\, a putting contest\, cornhole and a game of Jenga  GIANT .\n\nRSVP by Monday\, July 25th
X-ALT-DESC;FMTTYPE=text/html:<p><em>Hosted by Olney Assisted Living and SYNERGY HomeCare</em></p>\n\n<p>Join us for a fun time networking with professionals while enjoying wine and finger foods. For your entertainment pleasure\, we&rsquo\;ll have karaoke\, a putting contest\, cornhole and a game of Jenga<span style="font-size:12px">&reg\;</span>&nbsp\;GIANT<span style="font-size:12px">&trade\;</span>.</p>\n\n<p><em><strong>RSVP by Monday\, July 25<span style="font-size:12px">th</span></strong></em></p>\n
LOCATION:Olney Assisted Living 16940 Georgia Ave. Olney\, MD 20832
UID:e.1793.5682
SEQUENCE:3
DTSTAMP:20260422T024113Z
URL:https://business.olneymd.org/events/details/sip-play-networking-event-5682
END:VEVENT

END:VCALENDAR
