BEGIN:VCALENDAR
VERSION:2.0
PRODID:-//ChamberMaster//Event Calendar 2.0//EN
METHOD:PUBLISH
X-PUBLISHED-TTL:P3D
REFRESH-INTERVAL:P3D
CALSCALE:GREGORIAN
BEGIN:VEVENT
DTSTART:20250918T213000Z
DTEND:20250918T233000Z
X-MICROSOFT-CDO-ALLDAYEVENT:FALSE
SUMMARY:September Networking Mixer at Norbeck Country Club
DESCRIPTION:September Networking Mixer\n\nat Norbeck Country ClubJoin us for our September Networking Mixer hosted and sponsored by Norbeck Country Club featuring Land Sea And Me for an evening of friendly competition\, conversations and connections!\n\n \n\nTest your skills in a putting & chipping contest (with prizes!)\n\nJump in for tennis or pickleball round robin play\n\nSample delicious complimentary bites courtesy of Norbeck Country Club\n\nRelax with signature cocktails (with Chamber members receiving their first drink courtesy of Land Sea And Me)\n\nMingle outside\, enjoy Adirondack seating\, or cool off inside seeing all that Norbeck Country Club has to offer.\n\n \n\nIt's the perfect mix of sport\, socializing\, and September fun! Please note\, a cash bar will be available for your enjoyment. Please register in advance.
X-ALT-DESC;FMTTYPE=text/html:<h1><span style="color:#008000\;"><span style="font-family:verdana\;">September Networking Mixer<br />\nat Norbeck Country Club</span></span><span class="x193iq5w xeuugli x13faqbe x1vvkbs x1xmvt09 x1lliihq x1s928wv xhkezso x1gmr53x x1cpjm7i x1fgarty x1943h6x xudqn12 x3x7a5m x6prxxf xvq8zen xo1l8bm xzsf02u x1yc453h" dir="auto" style="display: block\; overflow-wrap: break-word\; color: rgb(5\, 5\, 5)\; max-width: 100%\; word-break: break-word\; font-family: inherit\; font-size: 0.9375rem\; line-height: 1.3333\; min-width: 0px\;"><span style="font-family:verdana\;"><span style="font-size:14px\;">Join us for our September Networking Mixer hosted and sponsored by <span class="html-span xdj266r x14z9mp xat24cr x1lziwak xexx8yu xyri2b x18d9i69 x1c1uobl x1hl2dhg x16tdsg8 x1vvkbs" style="margin: 0px\; text-align: inherit\; padding: 0px\; overflow-wrap: break-word\;"><a attributionsrc="/privacy_sandbox/comet/register/source/?xt=AZWwYaRB5T8iuPIs7f9OmjLb_sF4XFzr0rk-VhGn2t_J3hhv9-E60ldzDuX5z80qK6KZ3hTlj6SMqmSJRjgr1z8w632UhC2HU5y8dqtxN4cZegKh5Yc-tt0pve_GDKdXFJpV6x1VLwlwXJ9x8FCRw74OZ1ihWfhaG_aAu-xU_ot7dyh6C6Mc_UJTPY-x755kHENeWV9h_qu0q-cDLVIqr4VTJ9RK_F58RyixKcyrh5NlRcsRZeZjMcRqiTogmItTGOCNqyBXAYz_eE33D9QDxPCRU4UsNYGBIT4l3Tkij0W4CtxN4ACEoEQ3IeLRukytjhgokUo-Vw1C6dI8ZkirdsdWDT-jg9zqFg_50Hh-6SfWFpPcutGeon48ACUvwZHezEzeEjzIAnnZAebOmePDJtl-AgPCZsed3TSdHNdk9J4Foq4tTmQPTTIDP-Jqgo_kzybtmK-r_Q7KVXY6SPLp9Gh-xXeICgnIy0balPYs-spcBOCjIQG-Q0cW827KDbQkybhZQhMl3wHxRXva99UkJfGKWynIam4FdPrFniqC7PRXj0ekaaRz6sfePvIR-XYIuKw1_zi8OlUQr_v8wXt-ZCFI1T2KMKY5v5BnRpGaijl9-5fQDiTAXfGhDI1LZkgaUHCoNidRrKCyMpRBKswPa9LONMeIptpfiCEBmY8YTz0vq5zAVx5rcXjRFSDSF322AfbpIIHSAi9axXuc1SPmU2dnb-qGSj_0vu3zli3qt2IabQXGAXn7j0e_Cjifxaty-X_Svmt4hcPz7JkeIb8hHkJkrxfqwXwYHxROIL46-VJz2i_w6V3Lpi_m-U-tcYIxSAV5D5Rl3gGS-MDgc86lbdkdNWPk4_ukMG-_B_vfr26sVhxYzZcazGAGPOCRLyvqvNSWpNxJhT_GKRiEMKmO3gWtUiKC3EDd-seVdpF-OjQECVF3y0pXp0fEoa_2Ml0yfe5VdH98wcaUvJ-qJOncw_xITjAnUywJY2GkJit0H2QYXKxmt0gtxv45kwRLYY5AnW2myUc3EIym5U2wCLLJz7a0hUC8Dmx0RcVVIIHjI6fijmX9lb_t4HiNILiEpKX0bVtk1g58KQDn8tSskAcQerbe4jmIrK2n3_wsin_dlGj5xXLL1Pp5I0utlJkjedYpyB0FzR3nM6D3DLXd5_yemqo0Ok6IuNT1PN0LQvDMoyoyeE5aUj04RwL7Aqj2WpXcm_7tjy4S2hXQRuZhYvvSGvoRqQQ1ykdOMhAcACbvInCHfg0jSPYDhL7NLNGh01hrfO9oxLOCBwSBf9t92zjXj4QilkfF4CvGW_K33OQVo0QfeBfdiBQ34utgZV2K7PnFO6RA-QBcX45H2NSPzV4MLHdw0zPJMNcfXoJWDaznOsUJBjBphMdm_7WNjULQnr32HrUB5M8X_bCai_rS0oDL1zVW-GdhtXco0Nezos9eKn5JgtiR7uasHHjO1JhEkpLQsPtAYNvWHDvlGfOEIANuZV19rgf6GI3JeZZ5dqKfh6QkCPojJX7c8lsx7NRIdMVgeVWuyxind8ziChALyNhtyjcweB0ds4CO0WDcWrbeJuekWZrddopeqi51sX6UkOFL9LZJcmw7CQtf3l7uf58UpyShTkUj9-HwDJOCyT_WwTKtA70Pl_eHsMY_yqyB65wYJjKJwW31bvKd8ZWGL46A6Ax7yPXazc0tvubDLKTFgU6lYQ" class="x1i10hfl xjbqb8w x1ejq31n x18oe1m7 x1sy0etr xstzfhl x972fbf x10w94by x1qhh985 x14e42zd x9f619 x1ypdohk xt0psk2 x3ct3a4 xdj266r x14z9mp xat24cr x1lziwak xexx8yu xyri2b x18d9i69 x1c1uobl x16tdsg8 x1hl2dhg xggy1nq x1a2a7pz xkrqix3 x1sur9pj x1fey0fg x1s688f" href="https://www.facebook.com/NorbeckCountryClub?__cft__[0]=AZWhNQKEAPUevsOEnszz6fjIvUZAksngqXzWJg1hhAJLaWEYm6cuELu-_okTDh8pkFeRVBsq1rRy289eJe3ywP87QWf_6YwEXeIvnEtX5cOmgAhjRMtPGR1ZfgJ7UHasUTS6d5mFAVPIziDF-TULb37_&amp\;__tn__=-]K-R" role="link" style="color: rgb(33\, 111\, 219)\; cursor: pointer\; text-decoration-line: none\; border-width: 0px\; margin: 0px\; text-align: inherit\; border-style: none\; padding: 0px\; list-style-type: none\; box-sizing: border-box\; background-color: transparent\; outline: none\; -webkit-tap-highlight-color: transparent\; font-weight: 600\; touch-action: manipulation\; display: inline\; font-family: inherit\;" tabindex="0" target="_blank"><span class="xt0psk2" style="display: inline\;">Norbeck Country Club</span></a></span> featuring <span class="html-span xdj266r x14z9mp xat24cr x1lziwak xexx8yu xyri2b x18d9i69 x1c1uobl x1hl2dhg x16tdsg8 x1vvkbs" style="margin: 0px\; text-align: inherit\; padding: 0px\; overflow-wrap: break-word\;"><a attributionsrc="/privacy_sandbox/comet/register/source/?xt=AZWwYaRB5T8iuPIs7f9OmjLb_sF4XFzr0rk-VhGn2t_J3hhv9-E60ldzDuX5z80qK6KZ3hTlj6SMqmSJRjgr1z8w632UhC2HU5y8dqtxN4cZegKh5Yc-tt0pve_GDKdXFJpV6x1VLwlwXJ9x8FCRw74OZ1ihWfhaG_aAu-xU_ot7dyh6C6Mc_UJTPY-x755kHENeWV9h_qu0q-cDLVIqr4VTJ9RK_F58RyixKcyrh5NlRcsRZeZjMcRqiTogmItTGOCNqyBXAYz_eE33D9QDxPCRU4UsNYGBIT4l3Tkij0W4CtxN4ACEoEQ3IeLRukytjhgokUo-Vw1C6dI8ZkirdsdWDT-jg9zqFg_50Hh-6SfWFpPcutGeon48ACUvwZHezEzeEjzIAnnZAebOmePDJtl-AgPCZsed3TSdHNdk9J4Foq4tTmQPTTIDP-Jqgo_kzybtmK-r_Q7KVXY6SPLp9Gh-xXeICgnIy0balPYs-spcBOCjIQG-Q0cW827KDbQkybhZQhMl3wHxRXva99UkJfGKWynIam4FdPrFniqC7PRXj0ekaaRz6sfePvIR-XYIuKw1_zi8OlUQr_v8wXt-ZCFI1T2KMKY5v5BnRpGaijl9-5fQDiTAXfGhDI1LZkgaUHCoNidRrKCyMpRBKswPa9LONMeIptpfiCEBmY8YTz0vq5zAVx5rcXjRFSDSF322AfbpIIHSAi9axXuc1SPmU2dnb-qGSj_0vu3zli3qt2IabQXGAXn7j0e_Cjifxaty-X_Svmt4hcPz7JkeIb8hHkJkrxfqwXwYHxROIL46-VJz2i_w6V3Lpi_m-U-tcYIxSAV5D5Rl3gGS-MDgc86lbdkdNWPk4_ukMG-_B_vfr26sVhxYzZcazGAGPOCRLyvqvNSWpNxJhT_GKRiEMKmO3gWtUiKC3EDd-seVdpF-OjQECVF3y0pXp0fEoa_2Ml0yfe5VdH98wcaUvJ-qJOncw_xITjAnUywJY2GkJit0H2QYXKxmt0gtxv45kwRLYY5AnW2myUc3EIym5U2wCLLJz7a0hUC8Dmx0RcVVIIHjI6fijmX9lb_t4HiNILiEpKX0bVtk1g58KQDn8tSskAcQerbe4jmIrK2n3_wsin_dlGj5xXLL1Pp5I0utlJkjedYpyB0FzR3nM6D3DLXd5_yemqo0Ok6IuNT1PN0LQvDMoyoyeE5aUj04RwL7Aqj2WpXcm_7tjy4S2hXQRuZhYvvSGvoRqQQ1ykdOMhAcACbvInCHfg0jSPYDhL7NLNGh01hrfO9oxLOCBwSBf9t92zjXj4QilkfF4CvGW_K33OQVo0QfeBfdiBQ34utgZV2K7PnFO6RA-QBcX45H2NSPzV4MLHdw0zPJMNcfXoJWDaznOsUJBjBphMdm_7WNjULQnr32HrUB5M8X_bCai_rS0oDL1zVW-GdhtXco0Nezos9eKn5JgtiR7uasHHjO1JhEkpLQsPtAYNvWHDvlGfOEIANuZV19rgf6GI3JeZZ5dqKfh6QkCPojJX7c8lsx7NRIdMVgeVWuyxind8ziChALyNhtyjcweB0ds4CO0WDcWrbeJuekWZrddopeqi51sX6UkOFL9LZJcmw7CQtf3l7uf58UpyShTkUj9-HwDJOCyT_WwTKtA70Pl_eHsMY_yqyB65wYJjKJwW31bvKd8ZWGL46A6Ax7yPXazc0tvubDLKTFgU6lYQ" class="x1i10hfl xjbqb8w x1ejq31n x18oe1m7 x1sy0etr xstzfhl x972fbf x10w94by x1qhh985 x14e42zd x9f619 x1ypdohk xt0psk2 x3ct3a4 xdj266r x14z9mp xat24cr x1lziwak xexx8yu xyri2b x18d9i69 x1c1uobl x16tdsg8 x1hl2dhg xggy1nq x1a2a7pz xkrqix3 x1sur9pj x1fey0fg x1s688f" href="https://www.facebook.com/landseaandme?__cft__[0]=AZWhNQKEAPUevsOEnszz6fjIvUZAksngqXzWJg1hhAJLaWEYm6cuELu-_okTDh8pkFeRVBsq1rRy289eJe3ywP87QWf_6YwEXeIvnEtX5cOmgAhjRMtPGR1ZfgJ7UHasUTS6d5mFAVPIziDF-TULb37_&amp\;__tn__=-]K-R" role="link" style="color: rgb(33\, 111\, 219)\; cursor: pointer\; text-decoration-line: none\; border-width: 0px\; margin: 0px\; text-align: inherit\; border-style: none\; padding: 0px\; list-style-type: none\; box-sizing: border-box\; background-color: transparent\; outline: none\; -webkit-tap-highlight-color: transparent\; font-weight: 600\; touch-action: manipulation\; display: inline\; font-family: inherit\;" tabindex="0" target="_blank"><span class="xt0psk2" style="display: inline\;">Land Sea And Me</span></a></span> for an evening of friendly competition\, conversations and connections!</span></span></span></h1>\n\n<div>&nbsp\;</div>\n\n<div><span style="font-size:14px\;"><span style="font-family:verdana\;">Test your skills in a putting &amp\; chipping contest (with prizes!)</span></span></div>\n\n<div><span style="font-size:14px\;"><span style="font-family:verdana\;">Jump in for tennis or pickleball round robin pla</span></span>y</div>\n\n<div><span style="font-size:14px\;"><span style="font-family:verdana\;">Sample delicious complimentary bites courtesy of <span class="html-span xdj266r x14z9mp xat24cr x1lziwak xexx8yu xyri2b x18d9i69 x1c1uobl x1hl2dhg x16tdsg8 x1vvkbs" style="margin: 0px\; text-align: inherit\; padding: 0px\; overflow-wrap: break-word\;"><a attributionsrc="/privacy_sandbox/comet/register/source/?xt=AZWwYaRB5T8iuPIs7f9OmjLb_sF4XFzr0rk-VhGn2t_J3hhv9-E60ldzDuX5z80qK6KZ3hTlj6SMqmSJRjgr1z8w632UhC2HU5y8dqtxN4cZegKh5Yc-tt0pve_GDKdXFJpV6x1VLwlwXJ9x8FCRw74OZ1ihWfhaG_aAu-xU_ot7dyh6C6Mc_UJTPY-x755kHENeWV9h_qu0q-cDLVIqr4VTJ9RK_F58RyixKcyrh5NlRcsRZeZjMcRqiTogmItTGOCNqyBXAYz_eE33D9QDxPCRU4UsNYGBIT4l3Tkij0W4CtxN4ACEoEQ3IeLRukytjhgokUo-Vw1C6dI8ZkirdsdWDT-jg9zqFg_50Hh-6SfWFpPcutGeon48ACUvwZHezEzeEjzIAnnZAebOmePDJtl-AgPCZsed3TSdHNdk9J4Foq4tTmQPTTIDP-Jqgo_kzybtmK-r_Q7KVXY6SPLp9Gh-xXeICgnIy0balPYs-spcBOCjIQG-Q0cW827KDbQkybhZQhMl3wHxRXva99UkJfGKWynIam4FdPrFniqC7PRXj0ekaaRz6sfePvIR-XYIuKw1_zi8OlUQr_v8wXt-ZCFI1T2KMKY5v5BnRpGaijl9-5fQDiTAXfGhDI1LZkgaUHCoNidRrKCyMpRBKswPa9LONMeIptpfiCEBmY8YTz0vq5zAVx5rcXjRFSDSF322AfbpIIHSAi9axXuc1SPmU2dnb-qGSj_0vu3zli3qt2IabQXGAXn7j0e_Cjifxaty-X_Svmt4hcPz7JkeIb8hHkJkrxfqwXwYHxROIL46-VJz2i_w6V3Lpi_m-U-tcYIxSAV5D5Rl3gGS-MDgc86lbdkdNWPk4_ukMG-_B_vfr26sVhxYzZcazGAGPOCRLyvqvNSWpNxJhT_GKRiEMKmO3gWtUiKC3EDd-seVdpF-OjQECVF3y0pXp0fEoa_2Ml0yfe5VdH98wcaUvJ-qJOncw_xITjAnUywJY2GkJit0H2QYXKxmt0gtxv45kwRLYY5AnW2myUc3EIym5U2wCLLJz7a0hUC8Dmx0RcVVIIHjI6fijmX9lb_t4HiNILiEpKX0bVtk1g58KQDn8tSskAcQerbe4jmIrK2n3_wsin_dlGj5xXLL1Pp5I0utlJkjedYpyB0FzR3nM6D3DLXd5_yemqo0Ok6IuNT1PN0LQvDMoyoyeE5aUj04RwL7Aqj2WpXcm_7tjy4S2hXQRuZhYvvSGvoRqQQ1ykdOMhAcACbvInCHfg0jSPYDhL7NLNGh01hrfO9oxLOCBwSBf9t92zjXj4QilkfF4CvGW_K33OQVo0QfeBfdiBQ34utgZV2K7PnFO6RA-QBcX45H2NSPzV4MLHdw0zPJMNcfXoJWDaznOsUJBjBphMdm_7WNjULQnr32HrUB5M8X_bCai_rS0oDL1zVW-GdhtXco0Nezos9eKn5JgtiR7uasHHjO1JhEkpLQsPtAYNvWHDvlGfOEIANuZV19rgf6GI3JeZZ5dqKfh6QkCPojJX7c8lsx7NRIdMVgeVWuyxind8ziChALyNhtyjcweB0ds4CO0WDcWrbeJuekWZrddopeqi51sX6UkOFL9LZJcmw7CQtf3l7uf58UpyShTkUj9-HwDJOCyT_WwTKtA70Pl_eHsMY_yqyB65wYJjKJwW31bvKd8ZWGL46A6Ax7yPXazc0tvubDLKTFgU6lYQ" class="x1i10hfl xjbqb8w x1ejq31n x18oe1m7 x1sy0etr xstzfhl x972fbf x10w94by x1qhh985 x14e42zd x9f619 x1ypdohk xt0psk2 x3ct3a4 xdj266r x14z9mp xat24cr x1lziwak xexx8yu xyri2b x18d9i69 x1c1uobl x16tdsg8 x1hl2dhg xggy1nq x1a2a7pz xkrqix3 x1sur9pj x1fey0fg x1s688f" href="https://www.facebook.com/NorbeckCountryClub?__cft__[0]=AZWhNQKEAPUevsOEnszz6fjIvUZAksngqXzWJg1hhAJLaWEYm6cuELu-_okTDh8pkFeRVBsq1rRy289eJe3ywP87QWf_6YwEXeIvnEtX5cOmgAhjRMtPGR1ZfgJ7UHasUTS6d5mFAVPIziDF-TULb37_&amp\;__tn__=-]K-R" role="link" style="color: rgb(33\, 111\, 219)\; cursor: pointer\; text-decoration-line: none\; border-width: 0px\; margin: 0px\; text-align: inherit\; border-style: none\; padding: 0px\; list-style-type: none\; box-sizing: border-box\; background-color: transparent\; outline: none\; -webkit-tap-highlight-color: transparent\; font-weight: 600\; touch-action: manipulation\; display: inline\; font-family: inherit\;" tabindex="0" target="_blank"><span class="xt0psk2" style="display: inline\;">Norbeck Country Club</span></a></span></span></span><br />\n<span style="font-size:14px\;"><span style="font-family:verdana\;">Relax with signature cocktails (with Chamber members receiving their first drink courtesy of <span class="html-span xdj266r x14z9mp xat24cr x1lziwak xexx8yu xyri2b x18d9i69 x1c1uobl x1hl2dhg x16tdsg8 x1vvkbs" style="margin: 0px\; text-align: inherit\; padding: 0px\; overflow-wrap: break-word\;"><a attributionsrc="/privacy_sandbox/comet/register/source/?xt=AZWwYaRB5T8iuPIs7f9OmjLb_sF4XFzr0rk-VhGn2t_J3hhv9-E60ldzDuX5z80qK6KZ3hTlj6SMqmSJRjgr1z8w632UhC2HU5y8dqtxN4cZegKh5Yc-tt0pve_GDKdXFJpV6x1VLwlwXJ9x8FCRw74OZ1ihWfhaG_aAu-xU_ot7dyh6C6Mc_UJTPY-x755kHENeWV9h_qu0q-cDLVIqr4VTJ9RK_F58RyixKcyrh5NlRcsRZeZjMcRqiTogmItTGOCNqyBXAYz_eE33D9QDxPCRU4UsNYGBIT4l3Tkij0W4CtxN4ACEoEQ3IeLRukytjhgokUo-Vw1C6dI8ZkirdsdWDT-jg9zqFg_50Hh-6SfWFpPcutGeon48ACUvwZHezEzeEjzIAnnZAebOmePDJtl-AgPCZsed3TSdHNdk9J4Foq4tTmQPTTIDP-Jqgo_kzybtmK-r_Q7KVXY6SPLp9Gh-xXeICgnIy0balPYs-spcBOCjIQG-Q0cW827KDbQkybhZQhMl3wHxRXva99UkJfGKWynIam4FdPrFniqC7PRXj0ekaaRz6sfePvIR-XYIuKw1_zi8OlUQr_v8wXt-ZCFI1T2KMKY5v5BnRpGaijl9-5fQDiTAXfGhDI1LZkgaUHCoNidRrKCyMpRBKswPa9LONMeIptpfiCEBmY8YTz0vq5zAVx5rcXjRFSDSF322AfbpIIHSAi9axXuc1SPmU2dnb-qGSj_0vu3zli3qt2IabQXGAXn7j0e_Cjifxaty-X_Svmt4hcPz7JkeIb8hHkJkrxfqwXwYHxROIL46-VJz2i_w6V3Lpi_m-U-tcYIxSAV5D5Rl3gGS-MDgc86lbdkdNWPk4_ukMG-_B_vfr26sVhxYzZcazGAGPOCRLyvqvNSWpNxJhT_GKRiEMKmO3gWtUiKC3EDd-seVdpF-OjQECVF3y0pXp0fEoa_2Ml0yfe5VdH98wcaUvJ-qJOncw_xITjAnUywJY2GkJit0H2QYXKxmt0gtxv45kwRLYY5AnW2myUc3EIym5U2wCLLJz7a0hUC8Dmx0RcVVIIHjI6fijmX9lb_t4HiNILiEpKX0bVtk1g58KQDn8tSskAcQerbe4jmIrK2n3_wsin_dlGj5xXLL1Pp5I0utlJkjedYpyB0FzR3nM6D3DLXd5_yemqo0Ok6IuNT1PN0LQvDMoyoyeE5aUj04RwL7Aqj2WpXcm_7tjy4S2hXQRuZhYvvSGvoRqQQ1ykdOMhAcACbvInCHfg0jSPYDhL7NLNGh01hrfO9oxLOCBwSBf9t92zjXj4QilkfF4CvGW_K33OQVo0QfeBfdiBQ34utgZV2K7PnFO6RA-QBcX45H2NSPzV4MLHdw0zPJMNcfXoJWDaznOsUJBjBphMdm_7WNjULQnr32HrUB5M8X_bCai_rS0oDL1zVW-GdhtXco0Nezos9eKn5JgtiR7uasHHjO1JhEkpLQsPtAYNvWHDvlGfOEIANuZV19rgf6GI3JeZZ5dqKfh6QkCPojJX7c8lsx7NRIdMVgeVWuyxind8ziChALyNhtyjcweB0ds4CO0WDcWrbeJuekWZrddopeqi51sX6UkOFL9LZJcmw7CQtf3l7uf58UpyShTkUj9-HwDJOCyT_WwTKtA70Pl_eHsMY_yqyB65wYJjKJwW31bvKd8ZWGL46A6Ax7yPXazc0tvubDLKTFgU6lYQ" class="x1i10hfl xjbqb8w x1ejq31n x18oe1m7 x1sy0etr xstzfhl x972fbf x10w94by x1qhh985 x14e42zd x9f619 x1ypdohk xt0psk2 x3ct3a4 xdj266r x14z9mp xat24cr x1lziwak xexx8yu xyri2b x18d9i69 x1c1uobl x16tdsg8 x1hl2dhg xggy1nq x1a2a7pz xkrqix3 x1sur9pj x1fey0fg x1s688f" href="https://www.facebook.com/landseaandme?__cft__[0]=AZWhNQKEAPUevsOEnszz6fjIvUZAksngqXzWJg1hhAJLaWEYm6cuELu-_okTDh8pkFeRVBsq1rRy289eJe3ywP87QWf_6YwEXeIvnEtX5cOmgAhjRMtPGR1ZfgJ7UHasUTS6d5mFAVPIziDF-TULb37_&amp\;__tn__=-]K-R" role="link" style="color: rgb(33\, 111\, 219)\; cursor: pointer\; text-decoration-line: none\; border-width: 0px\; margin: 0px\; text-align: inherit\; border-style: none\; padding: 0px\; list-style-type: none\; box-sizing: border-box\; background-color: transparent\; outline: none\; -webkit-tap-highlight-color: transparent\; font-weight: 600\; touch-action: manipulation\; display: inline\; font-family: inherit\;" tabindex="0" target="_blank"><span class="xt0psk2" style="display: inline\;">Land Sea And Me</span></a></span>)</span></span></div>\n\n<div><span style="font-size:14px\;"><span style="font-family:verdana\;">Mingle outside\, enjoy Adirondack seating\, or cool off inside seeing all that Norbeck Country Club has to offer.</span></span></div>\n\n<div class="x193iq5w xeuugli x13faqbe x1vvkbs x1xmvt09 x1lliihq x1s928wv xhkezso x1gmr53x x1cpjm7i x1fgarty x1943h6x xudqn12 x3x7a5m x6prxxf xvq8zen xo1l8bm xzsf02u x1yc453h" dir="auto" style="display: block\; overflow-wrap: break-word\; color: rgb(5\, 5\, 5)\; max-width: 100%\; word-break: break-word\; font-family: inherit\; font-size: 0.9375rem\; line-height: 1.3333\; min-width: 0px\;">&nbsp\;</div>\n\n<div><span style="font-size:14px\;"><span style="font-family:verdana\;">It&rsquo\;s the perfect mix of sport\, socializing\, and September fun! Please note\, a cash bar will be available for your enjoyment. Please register in advance.</span></span></div>\n\n<div class="html-div xdj266r x14z9mp xat24cr x1lziwak xexx8yu xyri2b x18d9i69 x1c1uobl" style="margin: 0px\; padding: 0px\; font-family: inherit\;">\n<div class="html-div xdj266r x14z9mp xat24cr x1lziwak xexx8yu xyri2b x18d9i69 x1c1uobl x1n2onr6" id="_r_1n_" style="margin: 0px\; padding: 0px\; position: relative\; font-family: inherit\;">\n<div class="html-div xdj266r x14z9mp xat24cr x1lziwak xexx8yu xyri2b x18d9i69 x1c1uobl x1n2onr6" style="margin: 0px\; padding: 0px\; position: relative\; font-family: inherit\;">&nbsp\;</div>\n\n<div class="html-div xdj266r x14z9mp xat24cr x1lziwak xexx8yu xyri2b x18d9i69 x1c1uobl x6ikm8r x10wlt62" style="margin: 0px\; padding: 0px\; overflow: hidden\; font-family: inherit\;">&nbsp\;</div>\n</div>\n</div>\n
LOCATION:Norbeck Country Club
UID:e.1793.7022
SEQUENCE:3
DTSTAMP:20260421T144037Z
URL:https://business.olneymd.org/events/details/september-networking-mixer-at-norbeck-country-club-7022
END:VEVENT

END:VCALENDAR
