BEGIN:VCALENDAR
VERSION:2.0
PRODID:-//ChamberMaster//Event Calendar 2.0//EN
METHOD:PUBLISH
X-PUBLISHED-TTL:P3D
REFRESH-INTERVAL:P3D
CALSCALE:GREGORIAN
BEGIN:VEVENT
DTSTART:20250211T213000Z
DTEND:20250211T230000Z
X-MICROSOFT-CDO-ALLDAYEVENT:FALSE
SUMMARY:Senior Care Group Meeting
DESCRIPTION:Due to the snow forecast for today\, this evening's Olney Chamber Senior Care Group meeting will be moved to Zoom. Below are the updated meeting details:\n\nTopic: Olney Chamber Senior Care Group\n\nDate/Time: Tuesday\, February 11\, 2025\, at 4:30 PM Eastern Time\n\nZoom Meeting Link: Join Zoom Meeting\n\nMeeting ID: 829 6165 4636\n\nPasscode: 432054\n\nWe appreciate your flexibility and look forward to your participation this evening!\n\nJoin the Olney Chamber of Commerce's Senior Care Connect Group for a vibrant networking event designed to bring together professionals and businesses passionate about senior care. This is an excellent opportunity to connect\, collaborate\, and share resources with like-minded individuals dedicated to improving the lives of older adults in our community. \n\n\n\nEvery 2nd Tuesday of the month\, enjoy light refreshments\, engaging conversations\, and meaningful connections as we work together to build a stronger support network for seniors and their families. Whether you're a seasoned professional or new to the industry\, this event is open to all who share an interest in senior care.\n\nBring your business cards and enthusiasm?see you there!
X-ALT-DESC;FMTTYPE=text/html:<p>Due to the snow forecast for today\, this evening&#39\;s Olney Chamber Senior Care Group meeting will be moved to Zoom. Below are the updated meeting details:</p>\n\n<p><strong>Topic:</strong> Olney Chamber Senior Care Group<br />\n<strong>Date/Time:</strong> Tuesday\, February 11\, 2025\, at 4:30 PM Eastern Time<br />\n<strong>Zoom Meeting Link:</strong> <a href="https://us02web.zoom.us/j/82961654636?pwd=zQaVW5TC2M6ypPbsuVVaTKH31Te4Ng.1" rel="noopener" target="_new">Join Zoom Meeting</a><br />\n<strong>Meeting ID:</strong> 829 6165 4636<br />\n<strong>Passcode:</strong> 432054</p>\n\n<p>We appreciate your flexibility and look forward to your participation this evening!</p>\n\n<p>Join the Olney Chamber of Commerce&#39\;s Senior Care Connect Group for a vibrant networking event designed to bring together professionals and businesses passionate about senior care. This is an excellent opportunity to connect\, collaborate\, and share resources with like-minded individuals dedicated to improving the lives of older adults in our community.&nbsp\;<br />\n<br />\n<span style="color: rgb(34\, 34\, 34)\; font-family: Arial\, Helvetica\, sans-serif\; font-size: small\;">Every 2nd Tuesday</span>&nbsp\;of the month\, enjoy light refreshments\, engaging conversations\, and meaningful connections as we work together to build a stronger support network for seniors and their families. Whether you&#39\;re a seasoned professional or new to the industry\, this event is open to all who share an interest in senior care.</p>\n\n<p>Bring your business cards and enthusiasm?see you there!&nbsp\;</p>\n
LOCATION:Zoom Meeting Link: Join Zoom Meeting Meeting ID: 829 6165 4636 Passcode: 432054
UID:e.1793.6343
SEQUENCE:3
DTSTAMP:20260421T115606Z
URL:https://business.olneymd.org/events/details/senior-care-group-meeting-02-11-2025-6343
END:VEVENT

END:VCALENDAR
