BEGIN:VCALENDAR
VERSION:2.0
PRODID:-//ChamberMaster//Event Calendar 2.0//EN
METHOD:PUBLISH
X-PUBLISHED-TTL:P3D
REFRESH-INTERVAL:P3D
CALSCALE:GREGORIAN
BEGIN:VEVENT
DTSTART:20250621T150000Z
DTEND:20250621T200000Z
X-MICROSOFT-CDO-ALLDAYEVENT:FALSE
SUMMARY:Rocking The Blues\, Shining A Light Health Fair
DESCRIPTION:we warmly invite you and your loved ones to a special event:\n\nRocking the Blues\, Shining a Light Senior Health Fair\n\nIn partnership with the Alzheimer's Association and local businesses\, we're hosting this event to raise awareness and show support for those impacted by Alzheimer's disease. It's a celebration of health\, music\, and community a chance to reconnect\, reminisce\, and create new memories together.\n\nWhile our community isn't a dedicated memory care facility\, we take pride in supporting Alzheimer's awareness and honoring the impact of dementia on individuals and families. \n\n\n\nWhat to Expect:\n\n	Live blues music performances\n	Wellness vendors offering health information\n	Opportunities to connect with community members\n\nFood & Refreshments:\n\nWe're excited to feature a variety of food options to satisfy your taste buds:\n\n\n	Food Trucks: A selection of local food trucks will be on-site\, offering diverse and delicious fare for purchase.\n	Community Dining Services: Our dining team will be serving hot dogs\, hamburgers\, or veggie burgers\, each accompanied by chips and a drink\, all available for purchase. \n\nParking Information:\n\nWe have arranged for additional parking for this event\, generously provided by our partners at Aspenwood Senior Living Community\, located at 14400 Homecrest Rd\, Silver Spring\, MD 20906. We will be running our bus every 30 mins on the hour in order for friends and family to enjoy the event without worrying about parking.
X-ALT-DESC;FMTTYPE=text/html:<span style="font-family:arial\,sans-serif"><span style="font-size:14.0pt">we warmly invite you and your loved ones to a special event:</span></span><br />\n<strong><span style="font-family:arial\,sans-serif"><span style="font-size:14.0pt">Rocking the Blues\, Shining a Light Senior Health Fair</span></span></strong><br />\n<span style="font-family:arial\,sans-serif"><span style="font-size:14.0pt">In partnership with the Alzheimer&#39\;s Association and local businesses\, we&#39\;re hosting this event to raise awareness and show support for those impacted by Alzheimer&#39\;s disease. It&#39\;s a celebration of health\, music\, and community&mdash\;a chance to reconnect\, reminisce\, and create new memories together.</span></span><br />\n<span style="font-family:arial\,sans-serif"><span style="font-size:14.0pt">While our community isn&#39\;t a dedicated memory care facility\, we take pride in supporting Alzheimer&#39\;s awareness and honoring the impact of dementia on individuals and families.&nbsp\;</span></span><br />\n<br />\n<strong><span style="font-family:arial\,sans-serif"><span style="font-size:14.0pt">What to Expect:</span></span></strong>\n<ul>\n	<li><span style="font-family:arial\,sans-serif"><span style="font-size:14.0pt">Live blues music performances</span></span></li>\n	<li><span style="font-family:arial\,sans-serif"><span style="font-size:14.0pt">Wellness vendors offering health information</span></span></li>\n	<li><span style="font-family:arial\,sans-serif"><span style="font-size:14.0pt">Opportunities to connect with community members</span></span></li>\n</ul>\n<strong><span style="font-family:arial\,sans-serif"><span style="font-size:14.0pt">Food &amp\; Refreshments:</span></span></strong><br />\n<span style="font-family:arial\,sans-serif"><span style="font-size:14.0pt">We&#39\;re excited to feature a variety of food options to satisfy your taste buds:</span></span>\n\n<ul>\n	<li><strong><span style="font-family:arial\,sans-serif"><span style="font-size:14.0pt">Food Trucks:</span></span></strong><span style="font-family:arial\,sans-serif"><span style="font-size:14.0pt"> A selection of local food trucks will be on-site\, offering diverse and delicious fare for purchase.</span></span></li>\n	<li><strong><span style="font-family:arial\,sans-serif"><span style="font-size:14.0pt">Community Dining Services:</span></span></strong><span style="font-family:arial\,sans-serif"><span style="font-size:14.0pt"> Our dining team will be serving hot dogs\, hamburgers\, or veggie burgers\, each accompanied by chips and a drink\, all available for purchase. </span></span></li>\n</ul>\n<strong><span style="font-family:arial\,sans-serif"><span style="font-size:14.0pt">Parking Information:</span></span></strong><br />\n<span style="font-family:arial\,sans-serif"><span style="font-size:14.0pt">We have arranged for additional parking for this event\, generously provided by our partners at <strong>Aspenwood Senior Living Community\, located at 14400 Homecrest Rd\, Silver Spring\, MD 20906</strong>. We will be running our bus every 30 mins on the hour in order for friends and family to enjoy the event without worrying about parking.&nbsp\;</span></span>
LOCATION:14510 Homecrest Rd. Silver Spring\, MD 20906 outside\, behind our Moskowitz Building
UID:e.1793.6988
SEQUENCE:3
DTSTAMP:20260419T173547Z
URL:https://business.olneymd.org/events/details/rocking-the-blues-shining-a-light-health-fair-6988
END:VEVENT

END:VCALENDAR
