BEGIN:VCALENDAR
VERSION:2.0
PRODID:-//ChamberMaster//Event Calendar 2.0//EN
METHOD:PUBLISH
X-PUBLISHED-TTL:P3D
REFRESH-INTERVAL:P3D
CALSCALE:GREGORIAN
BEGIN:VEVENT
DTSTART:20220929T210000Z
DTEND:20220929T230000Z
X-MICROSOFT-CDO-ALLDAYEVENT:FALSE
SUMMARY:Regional Young Professionals Happy Hour
DESCRIPTION:Co-sponsored by the Greater Bethesda Chamber of Commerce\, the Greater Silver Spring Chamber of Commerce\, the Gaithersburg-Germantown Chamber of Commerce\, the Rockville Chamber of Commerce and the Olney Chamber of Commerce. \n\nLast held in 2019\, this event brings young professionals from member businesses together for an evening of networking and building connections.  \n\nIt's free to members and will feature complimentary appetizers and a cash bar.  Those who register before COB Friday\, September 9\, are entered into a raffle to win one of four $50 gift cards.
X-ALT-DESC;FMTTYPE=text/html:<br />\n<span style="font-size:16px\;">Co-sponsored by the Greater Bethesda Chamber of Commerce\, the Greater Silver Spring Chamber of Commerce\, the Gaithersburg-Germantown Chamber of Commerce\, the Rockville Chamber of Commerce and the <strong>Olney Chamber of Commerce</strong>.&nbsp\;<br />\nLast held in 2019\, this event brings young professionals from member businesses together for an evening of networking and building connections. &nbsp\;<br />\nIt&rsquo\;s free to members and will feature complimentary appetizers and a cash bar.&nbsp\; Those who register before COB Friday\, September 9\, are entered into a raffle to win one of four $50 gift cards.</span>
LOCATION:Denizen's Brewing Co. 1115 East-West Hwy Silver Spring
UID:e.1793.5692
SEQUENCE:3
DTSTAMP:20260422T005240Z
URL:https://business.olneymd.org/events/details/regional-young-professionals-happy-hour-5692
END:VEVENT

END:VCALENDAR
