BEGIN:VCALENDAR
VERSION:2.0
PRODID:-//ChamberMaster//Event Calendar 2.0//EN
METHOD:PUBLISH
X-PUBLISHED-TTL:P3D
REFRESH-INTERVAL:P3D
CALSCALE:GREGORIAN
BEGIN:VEVENT
DTSTART:20251018T190000Z
DTEND:20251018T230000Z
X-MICROSOFT-CDO-ALLDAYEVENT:FALSE
SUMMARY:Red Pitch Resources Fair
DESCRIPTION:In conjunction with our production of Red Pitch\, we're excited to welcome Sandy Spring Soccer Club\, Montgomery County Recreation\, and Montgomery County Public Libraries to our campus. These community partners will be tabling to share local resources and opportunities for young people. Sandy Spring Soccer Club offers youth programs that build skills and teamwork through the game of soccer. Montgomery County Recreation provides a wide range of activities\, classes\, and sports programs that help young people stay active and engaged. Montgomery County Public Libraries connect our community to books\, digital resources\, and lifelong learning opportunities. Come explore all they have to offer before the show!\nFree\, No RSVP Required
X-ALT-DESC;FMTTYPE=text/html:<span style="font-size:12px"><span style="font-family:arial\,helvetica\,sans-serif"><span style="background-color:rgb(255\, 255\, 255)">In conjunction with our production of&nbsp\;</span><strong><a href="https://www.olneytheatre.org/whats-playing/red-pitch"><em>Red Pitch</em></a></strong><span style="background-color:rgb(255\, 255\, 255)">\, we&rsquo\;re excited to welcome Sandy Spring Soccer Club\, Montgomery County Recreation\, and Montgomery County Public Libraries to our campus. These community partners will be tabling to share local resources and opportunities for young people. Sandy Spring Soccer Club offers youth programs that build skills and teamwork through the game of soccer. Montgomery County Recreation provides a wide range of activities\, classes\, and sports programs that help young people stay active and engaged. Montgomery County Public Libraries connect our community to books\, digital resources\, and lifelong learning opportunities. Come explore all they have to offer before the show!</span></span></span>\n<div style="text-align:center"><strong><em>Free\, No RSVP Required</em></strong></div>\n
LOCATION:Mulitz-Gudelsky Theatre Lab Olney Theatre Center 2001 Olney-Sandy Spring Road Olney\, MD 20832 Parking & Campus Info
UID:e.1793.7460
SEQUENCE:3
DTSTAMP:20260421T193745Z
URL:https://business.olneymd.org/events/details/red-pitch-resources-fair-10-18-2025-7460
END:VEVENT

END:VCALENDAR
