BEGIN:VCALENDAR
VERSION:2.0
PRODID:-//ChamberMaster//Event Calendar 2.0//EN
METHOD:PUBLISH
X-PUBLISHED-TTL:P3D
REFRESH-INTERVAL:P3D
CALSCALE:GREGORIAN
BEGIN:VEVENT
DTSTART:20260215T150000Z
DTEND:20260215T190000Z
X-MICROSOFT-CDO-ALLDAYEVENT:FALSE
SUMMARY:Recreation Open House
DESCRIPTION:This Regional Open House will highlight ALL of the centers across the Mid County region (Bauer Drive\, Longwood\, Ross Boddy\, Mic County Rec and Wheaton). Enjoy live demonstrations of our Spring classes and programs taking place across the region ahead of Spring registration which starts on Wednesday\, February 18th.\n\n \n\nThis event is FREE to the public\, no rec membership or pre-registration required. We hope folks will come meet our amazing staff and explore all that we have to offer.
X-ALT-DESC;FMTTYPE=text/html:<p><span style="font-size:14px"><span style="font-family:arial\,helvetica\,sans-serif">This Regional Open House will highlight ALL of the centers across the Mid County region (Bauer Drive\, Longwood\, Ross Boddy\, Mic County Rec and Wheaton). Enjoy live demonstrations of our Spring classes and programs taking place across the region ahead of Spring registration which starts on Wednesday\, February 18<sup>th</sup>.<br />\n&nbsp\;<br />\nThis event is FREE to the public\, no rec membership or pre-registration required. We hope folks will come meet our amazing staff and explore all that we have to offer.</span></span></p>\n
LOCATION:Mid County Community Recreation Center 2004 Queensguard Rd\, Silver Spring\, MD 20906
UID:e.1793.7557
SEQUENCE:3
DTSTAMP:20260421T161257Z
URL:https://business.olneymd.org/events/details/recreation-open-house-7557
END:VEVENT

END:VCALENDAR
