BEGIN:VCALENDAR
VERSION:2.0
PRODID:-//ChamberMaster//Event Calendar 2.0//EN
METHOD:PUBLISH
X-PUBLISHED-TTL:P3D
REFRESH-INTERVAL:P3D
CALSCALE:GREGORIAN
BEGIN:VEVENT
DTSTART:20220920T223000Z
DTEND:20220920T233000Z
X-MICROSOFT-CDO-ALLDAYEVENT:FALSE
SUMMARY:Realities of Dementia
DESCRIPTION:Family-Friendly Tools and Tips\n\nPresented by Lori La Bey\, Founder of Alzheimer's Speaks. Lori La Bey is a passionate advocate who searches for ways to shift our dementia care culture from crisis to comfort. She was recognized by Sharecare as the #1 Influencer Online for Alzheimer's. As a professional speaker and daughter of a mother with dementia for over 30 years\, Lori gets it!\n\nThis program is designed to help families and friends deal with caring for a loved one with dementia. Participants will walk out with a new understanding of the multilevel dynamics at play when a diagnosis of Alzheimer's disease or another form of dementia comes into play. We'll discuss real-life situations\, actions and reactions of all involved as days unfold into months and years. The overall goal of this presentation is to remove the fear associated with dementia and get people to realize the true joy which can be embraced when living in the moment.
X-ALT-DESC;FMTTYPE=text/html:<h3>Family-Friendly Tools and Tips</h3>\n\n<p><em>Presented by Lori La Bey\, Founder of Alzheimer&rsquo\;s Speaks. Lori La Bey is a passionate advocate who searches for ways to shift our dementia care culture from crisis to comfort. She was recognized by Sharecare as the #1 Influencer Online for Alzheimer&rsquo\;s. As a professional speaker and daughter of a mother with dementia for over 30 years\, Lori gets it!</em></p>\n\n<p>This program is designed to help families and friends deal with caring for a loved one with dementia. Participants will walk out with a new understanding of the multilevel dynamics at play when a diagnosis of Alzheimer&rsquo\;s disease or another form of dementia comes into play. We&rsquo\;ll discuss real-life situations\, actions and reactions of all involved as days unfold into months and years. The overall goal of this presentation is to remove the fear associated with dementia and get people to realize the true joy which can be embraced when living in the moment.</p>\n
LOCATION:Olney Assisted Living\, 16940 Georgia Avenue\, Olney\, MD 20832
UID:e.1793.5688
SEQUENCE:3
DTSTAMP:20260422T005319Z
URL:https://business.olneymd.org/events/details/realities-of-dementia-5688
END:VEVENT

END:VCALENDAR
