BEGIN:VCALENDAR
VERSION:2.0
PRODID:-//ChamberMaster//Event Calendar 2.0//EN
METHOD:PUBLISH
X-PUBLISHED-TTL:P3D
REFRESH-INTERVAL:P3D
CALSCALE:GREGORIAN
BEGIN:VEVENT
DTSTART:20250518T190000Z
DTEND:20250518T203000Z
X-MICROSOFT-CDO-ALLDAYEVENT:FALSE
SUMMARY:Pots with Purpose (Women's Board & Christopher's Garden Center)
DESCRIPTION:Join us for Pots with Purpose\, a hands-on container workshop\, where you'll create a beautiful planter of annuals with proceeds benefiting the Women's Board supporting MedStar Montgomery Medical Center. \n\n\n\nParticipants will learn about the basics of container gardening\, explore different types of plants for containers\, gain knowledge about proper watering and create a beautiful container garden of annuals to take home. The workshop will provide all necessary materials. We do encourage everyone to bring garden gloves and a garden trowel.\n\n\n\nRegister today!
X-ALT-DESC;FMTTYPE=text/html:Join us for Pots with Purpose\, a hands-on container workshop\, where you&#39\;ll create a beautiful planter of annuals with proceeds benefiting the Women&#39\;s Board supporting MedStar Montgomery Medical Center.&nbsp\;<br />\n<br />\nParticipants will learn about the basics of container gardening\, explore different types of plants for containers\, gain knowledge about proper watering and create a beautiful container garden of annuals to take home. The workshop will provide all necessary materials. We do encourage everyone to bring garden gloves and a garden trowel.<br />\n<br />\n<a href="https://www.eventbrite.com/e/pots-with-purpose-tickets-1301735709549?utm-campaign=social&amp\;utm-content=attendeeshare&amp\;utm-medium=discovery&amp\;utm-term=listing&amp\;utm-source=cp&amp\;aff=ebdsshcopyurl&amp\;fbclid=IwY2xjawJiWINleHRuA2FlbQIxMAABHtUxURnDnRQnfzegt298MkY0LCOvBdAaTnMpTnKUWtjENfKG75-NI_VsYLTq_aem_D6u8scYZkrkZ6zwUV3wU_Q" target="_blank">Register today!</a><br />\n&nbsp\;
LOCATION:Christopher's Garden Center 1610 Olney Sandy Spring Road Sandy Spring\, MD 20860
UID:e.1793.6636
SEQUENCE:3
DTSTAMP:20260421T131055Z
URL:https://business.olneymd.org/events/details/pots-with-purpose-women-s-board-christopher-s-garden-center-6636
END:VEVENT

END:VCALENDAR
