BEGIN:VCALENDAR
VERSION:2.0
PRODID:-//ChamberMaster//Event Calendar 2.0//EN
METHOD:PUBLISH
X-PUBLISHED-TTL:P3D
REFRESH-INTERVAL:P3D
CALSCALE:GREGORIAN
BEGIN:VEVENT
DTSTART:20220322T160000Z
DTEND:20220322T170000Z
X-MICROSOFT-CDO-ALLDAYEVENT:FALSE
SUMMARY:Planning a Financial Strategy for the Future
DESCRIPTION:Presented by Meagan Sexton\, AAMS\, Financial Advisor with Edward Jones\, and Damon Ehrlich\, Registered Representative and Licensed Agent with New York Life Insurance Company\n\nWhat does the future hold? None of us can answer that question\, but we can begin preparing for it now. By creating a strategy now\, you'll be more prepared for the unexpected\, which can save you and your family time\, money\, and stress.\n\nPlease join us as Meagan Sexton presents "The Four Pillars of the New Retirement\," where you'll learn about these essentials and other eye-opening insights that can help you get ready for your next chapter. Damon Ehrlich will be joining us to teach about creating a strategy for long-term care. You'll learn about the policy components for long-term care insurance and when the best time is to acquire a policy.\n\nClick here to register by Monday\, March 21st
X-ALT-DESC;FMTTYPE=text/html:<p><span dir="ltr">Presented by Meagan Sexton\, AAMS\, Financial Advisor with Edward Jones\, and Damon Ehrlich\,&nbsp\;</span><span dir="ltr">Registered Representative and Licensed Agent with New York Life Insurance Company</span></p>\n\n<p><span dir="ltr">What does the future hold? None of us can answer that question\, but we can begin preparing for it now. By creating a strategy now\, you&rsquo\;ll be more prepared for the unexpected\, which can save you and your family time\, money\, and stress.</span></p>\n\n<p><span dir="ltr">Please join us as Meagan Sexton presents &ldquo\;The Four Pillars of the New Retirement\,&quot\; where you&rsquo\;ll learn about these essentials and other eye-opening insights that can help you get ready for your next chapter. Damon Ehrlich will be joining us to teach about creating a strategy for long-term care. You&rsquo\;ll learn about the policy components for long-term care insurance and when the best time is to acquire a policy.</span></p>\n\n<p><em><span dir="ltr"><a href="https://www.olneymemorycare.com/communities/olney-assisted-living/events/details/4577/planning-a-financial-strategy-for-the-future">Click here to register</a> by Monday\, March 21st</span></em></p>\n
LOCATION:Webinar
UID:e.1793.5530
SEQUENCE:3
DTSTAMP:20260422T094010Z
URL:https://business.olneymd.org/events/details/planning-a-financial-strategy-for-the-future-5530
END:VEVENT

END:VCALENDAR
