BEGIN:VCALENDAR
VERSION:2.0
PRODID:-//ChamberMaster//Event Calendar 2.0//EN
METHOD:PUBLISH
X-PUBLISHED-TTL:P3D
REFRESH-INTERVAL:P3D
CALSCALE:GREGORIAN
BEGIN:VEVENT
DTSTART:20220609T160000Z
DTEND:20220906T010000Z
X-MICROSOFT-CDO-ALLDAYEVENT:FALSE
SUMMARY:Olney Lions Online Charity Auction
DESCRIPTION:Olney Lions Online Auction NOW OPEN\n\nThe Olney Lions Annual Online Auction opens on June 10th at 9 AM and remains "live" until September 5th at 9 PM. Click the link below to visit the site.\n\n\n\nhttps://www.32auctions.com/olneylionsclub2022
X-ALT-DESC;FMTTYPE=text/html:<h2 style="overflow-wrap: break-word\; margin: 0px\; padding: 0px\; font-size: 32px\; line-height: 32px\; font-family: Actor\, &quot\;Myriad Pro&quot\;\, Arial\, Helvetica\, sans-serif\; color: rgb(90\, 90\, 90)\; background-color: rgb(246\, 246\, 246)\;"><span style="color:#0000CD\;"><span class="wsite-text wsite-headline">Olney Lions Online Auction NOW OPEN</span></span></h2>\n\n<p style="margin: 0px\; padding: 20px 0px\; font-size: 1.1em\; line-height: 21.56px\; color: rgb(134\, 134\, 134)\; font-family: Tahoma\, Geneva\, sans-serif\; background-color: rgb(246\, 246\, 246)\;"><span style="color:#0000CD\;"><span class="wsite-text wsite-headline-paragraph">The Olney Lions Annual Online Auction opens on June 10th at 9 AM and remains &quot\;live&quot\; until September 5th at 9 PM. Click the link below to visit the site.</span></span><br />\n<br />\n<a href="http://Olney Lions Online Auction NOW OPEN The Olney Lions Annual Online Auction opens on June 10th at 9 AM and remains &quot\;live&quot\; until September 5th at 9 PM. Click the link below to visit the site. https://www.32auctions.com/olneylionsclub2022"><span style="color:#0000CD\;">https://www.32auctions.com/olneylionsclub2022</span></a></p>\n
LOCATION:
UID:e.1793.5819
SEQUENCE:3
DTSTAMP:20260422T005413Z
URL:https://business.olneymd.org/events/details/olney-lions-online-charity-auction-5819
END:VEVENT

END:VCALENDAR
