BEGIN:VCALENDAR
VERSION:2.0
PRODID:-//ChamberMaster//Event Calendar 2.0//EN
METHOD:PUBLISH
X-PUBLISHED-TTL:P3D
REFRESH-INTERVAL:P3D
CALSCALE:GREGORIAN
BEGIN:VEVENT
DTSTART:20250626T223000Z
DTEND:20250627T003000Z
X-MICROSOFT-CDO-ALLDAYEVENT:FALSE
SUMMARY:Olney HELP + Cropdusters CARES Night
DESCRIPTION:The Cropdusters CARES initiative is our team's way of giving back to the local community that supports us. Our goal is to make a meaningful\, positive impact on families in our neighborhood   helping brighten each day through service and connection.\n\nWe empower our players\, coaches\, staff\, and dedicated volunteers to engage directly with local nonprofits\, supporting their missions to build a stronger\, more compassionate community. Cropdusters CARES about the people around us.\n\nOlney HELP has been supporting families in our community with food and financial assistance since 1969. Clients come to us for many reasons   some live on fixed incomes or struggle to keep up with rising living costs. Others face temporary setbacks due to illness or injury that prevent them from working.\n\nYou can HELP! At the June 26th game\, please bring some most needed non-perishable items to help stock the pantry: Canned fruit in juice\; Condensed cooking soups (Cream of Chicken\, Mushroom & Onion)\; Canned chicken\; Canned tuna\; Baked beans\; Canned pasta\; 1-2 pound bags of white rice. In addition\, you may also order from the Amazon food wish list at this link: https://www.amazon.com/hz/wishlist/ls/76DSVZZQFLI1?ref_=wl_share\n\nJacqui Vok\, Olney HELP Executive Director\, will throw out the first pitch and will also be available to answer any questions. Thank you for your support!
X-ALT-DESC;FMTTYPE=text/html:<p><span style="color:#000080"><span style="font-family:arial\,helvetica\,sans-serif">The <strong>Cropdusters CARES</strong> initiative is our team&rsquo\;s way of giving back to the local community that supports us. Our goal is to make a meaningful\, positive impact on families in our neighborhood &mdash\; helping brighten each day through service and connection.</span></span></p>\n\n<p><span style="color:#000080"><span style="font-family:arial\,helvetica\,sans-serif">We empower our players\, coaches\, staff\, and dedicated volunteers to engage directly with local nonprofits\, supporting their missions to build a stronger\, more compassionate community. <strong>Cropdusters CARES</strong> about the people around us.</span></span></p>\n\n<p><span style="color:#000080"><span style="font-family:arial\,helvetica\,sans-serif"><strong>Olney HELP</strong> has been supporting families in our community with food and financial assistance since 1969. Clients come to us for many reasons &ndash\; some live on fixed incomes or struggle to keep up with rising living costs. Others face temporary setbacks due to illness or injury that prevent them from working.</span></span></p>\n\n<p><span style="font-family:arial\,helvetica\,sans-serif"><span style="color:#000080">You can HELP! At the June 26th&nbsp\;game\, please bring some most needed non-perishable items to help stock the pantry: Canned fruit in juice\; Condensed cooking soups (Cream of Chicken\, Mushroom &amp\; Onion)\; Canned chicken\; Canned tuna\; Baked beans\; Canned pasta\; 1-2 pound bags of white rice. In addition\, you may also order from the Amazon food wish list at this link:</span>&nbsp\;<u><a href="https://www.amazon.com/hz/wishlist/ls/76DSVZZQFLI1?ref_=wl_share" rel="noopener noreferrer" style="margin: 0px\; padding: 0px\; border: 0px\; vertical-align: baseline\; color: rgb(66\, 133\, 244)\;" target="_blank"><span style="color:#B22222">https://www.amazon.com/hz/wishlist/ls/76DSVZZQFLI1?ref_=wl_share</span></a></u></span></p>\n\n<p><span style="color:#000080"><span style="font-family:arial\,helvetica\,sans-serif">Jacqui Vok\, Olney HELP Executive Director\, will throw out the first pitch and will also be available to answer any questions. Thank you for your support!</span></span></p>\n
LOCATION:OBGC First Responder Field at ServPro Stadium 4501 Olney-Laytonsville Road Olney\, MD
UID:e.1793.6991
SEQUENCE:3
DTSTAMP:20260419T170026Z
URL:https://business.olneymd.org/events/details/olney-help-cropdusters-cares-night-6991
END:VEVENT

END:VCALENDAR
