BEGIN:VCALENDAR
VERSION:2.0
PRODID:-//ChamberMaster//Event Calendar 2.0//EN
METHOD:PUBLISH
X-PUBLISHED-TTL:P3D
REFRESH-INTERVAL:P3D
CALSCALE:GREGORIAN
BEGIN:VEVENT
DTSTART:20260502T190000Z
DTEND:20260503T013000Z
X-MICROSOFT-CDO-ALLDAYEVENT:FALSE
SUMMARY:Olney Days Party in the Park & Fireworks
DESCRIPTION:THIS IS A RAIN OR SHINE EVENT\n\n	Driving to the party?  Click HERE to see all the available parking options.  Click HERE to get your reserved parking spot today.\n	Live music performed by great local bands on TWO stages. \n	Jazz Concert by the Olney Big Band (7:00 - 8:30 pm) on the Olney Civic Fund Stage.\n	Olney Concert Band in front of the Swim Center.\n	Can you Win It in a Minute? Games designed for age 10+ (wristband for unlimited play)\n	Do you have aim? GIANT Slingshot. Send 15 balls 200 feet into targets (tickets required). Fun for all ages. \n	Sports Center - $5 for 15 minutes of fun\n	Fun on the Field will be filled with inflatables FREE\n	Fire safety presented by Sandy Spring Volunteer Fire Department. \n	The Beer & Wine Garden: Cash and credit cards accepted. Must be age 21 and over - bring ID. \n	Dogs must be leashed\n	Food Trucks - lots of choices\n	Fireworks (at dark\, about 8:30 pm).  For everyone's safety\, please no driving during the fireworks.
X-ALT-DESC;FMTTYPE=text/html:<span style="color:rgb(63\, 63\, 63)\; font-family:gentium basic\; font-size:16px"><strong>THIS IS A RAIN OR SHINE EVENT</strong></span>\n<ul>\n	<li>Driving to the party? &nbsp\;Click<a href="https://www.olneycivicfund.org/parking-at-party-in-the-park.html" style="text-decoration: none\; color: rgb(246\, 76\, 63)\; transition: 0.2s ease-in-out\;">&nbsp\;<strong>HERE</strong></a>&nbsp\;to see all the available parking&nbsp\;options. &nbsp\;Click&nbsp\;<strong><a href="https://www.zeffy.com/en-US/ticketing/2026-preferred-parking-at-olney-days-party-in-the-park" style="text-decoration: none\; color: rgb(246\, 76\, 63)\; transition: 0.2s ease-in-out\;" target="_blank">HERE</a></strong>&nbsp\;to get&nbsp\;your reserved parking spot today.</li>\n	<li>Live music<a href="https://www.olneycivicfund.org/stage-schedules.html" style="text-decoration: none\; color: rgb(246\, 76\, 63)\; transition: 0.2s ease-in-out\;">&nbsp\;performed</a>&nbsp\;by great local bands on&nbsp\;TWO stages.&nbsp\;</li>\n	<li>Jazz Concert by the&nbsp\;<a href="http://www.olneybigband.org/index.php" style="text-decoration: none\; color: rgb(246\, 76\, 63)\; transition: 0.2s ease-in-out\;">Olney Big Band</a>&nbsp\;(7:00 - 8:30 pm) on the Olney Civic Fund Stage.</li>\n	<li>Olney Concert Band in front of the Swim Center.</li>\n	<li>Can you Win It in a Minute?&nbsp\;<a href="https://www.olneycivicfund.org/fun-at-party-in-the-park.html" style="text-decoration: none\; color: rgb(246\, 76\, 63)\; transition: 0.2s ease-in-out\;">Games</a>&nbsp\;designed for age 10+ (wristband for unlimited play)</li>\n	<li>Do you have aim?&nbsp\;GIANT Slingshot. Send&nbsp\;15&nbsp\;balls 200 feet into&nbsp\;targets&nbsp\;(tickets required). Fun for all ages.&nbsp\;</li>\n	<li>Sports Center - $5 for 15 minutes of fun</li>\n	<li>Fun on the Field will be filled with inflatables FREE</li>\n	<li>Fire safety presented by Sandy Spring Volunteer Fire Department.&nbsp\;</li>\n	<li>The Beer &amp\; Wine Garden: Cash&nbsp\;and credit cards accepted.&nbsp\;Must be age 21 and over - bring ID.&nbsp\;</li>\n	<li>Dogs must be leashed</li>\n	<li>Food Trucks -&nbsp\;<a href="https://www.olneycivicfund.org/food-at-party-in-the-park.html" style="text-decoration: none\; color: rgb(246\, 76\, 63)\; transition: 0.2s ease-in-out\;">lots of choices</a></li>\n	<li><strong>Fireworks</strong>&nbsp\;(at dark\, about 8:30 pm).&nbsp\;&nbsp\;<strong>For everyone&#39\;s safety\, please&nbsp\;</strong><strong><strong>no d</strong>riving during the fireworks.</strong></li>\n</ul>\n
LOCATION:Olney Manor Park (16601 Georgia Ave).
UID:e.1793.7582
SEQUENCE:3
DTSTAMP:20260424T154153Z
URL:https://business.olneymd.org/events/details/olney-days-party-in-the-park-fireworks-7582
END:VEVENT

END:VCALENDAR
