BEGIN:VCALENDAR
VERSION:2.0
PRODID:-//ChamberMaster//Event Calendar 2.0//EN
METHOD:PUBLISH
X-PUBLISHED-TTL:P3D
REFRESH-INTERVAL:P3D
CALSCALE:GREGORIAN
BEGIN:VEVENT
DTSTART:20220430T190000Z
DTEND:20220501T000000Z
X-MICROSOFT-CDO-ALLDAYEVENT:FALSE
SUMMARY:Olney Days Party In The Park
DESCRIPTION:Join Olney Chamber of Commerce and our members for Olney Days' Party In The Park on Saturday\, April 30th. There'll be food\, live music\, fire truck rides\, activities for kids of all ages\, a beer/wine garden and exhibitors\, including your very own Chamber! We hope to see you there!
X-ALT-DESC;FMTTYPE=text/html:Join Olney Chamber of Commerce and our members for Olney Days&#39\; Party In The Park on Saturday\, April 30th. There&#39\;ll be food\, live music\, fire truck rides\, activities for kids of all ages\, a beer/wine garden and exhibitors\, including your very own Chamber! We hope to see you there!
LOCATION:Georgia Avenue and Emory Lane\, area surrounding the Olney Swim Center\, Skate Park and Ballfields
UID:e.1793.5541
SEQUENCE:3
DTSTAMP:20260422T074530Z
URL:https://business.olneymd.org/events/details/olney-days-party-in-the-park-5541
END:VEVENT

END:VCALENDAR
