BEGIN:VCALENDAR
VERSION:2.0
PRODID:-//ChamberMaster//Event Calendar 2.0//EN
METHOD:PUBLISH
X-PUBLISHED-TTL:P3D
REFRESH-INTERVAL:P3D
CALSCALE:GREGORIAN
BEGIN:VEVENT
DTSTART:20221027T213000Z
DTEND:20221027T233000Z
X-MICROSOFT-CDO-ALLDAYEVENT:FALSE
SUMMARY:October Networking Mixer: Paella Party on the Patio
DESCRIPTION:October Networking Mixer Featuring\n\n\n\nPaella Party on the Patio\n\n\n\nHalloween Costumes Encouraged!\n\n\nJoin us as Embrace Home Loans hosts our October networking event.\n\n\n\nMarcos Sanchez\, a self avowed culinary buff\, will be serving up Paella dishes\, cooked on an open flame\, to delight your taste buds.\n\n\n\nLet's help Marcos prepare by registering early! We hope to see you there!
X-ALT-DESC;FMTTYPE=text/html:<div style="text-align: center\;"><span style="font-size:26px\;"><span style="color:#FF8C00\;"><strong><em>October Networking Mixer Featuring</em></strong><br />\n<br />\n<span style="font-family:verdana\;"><strong><em>Paella Party on the Patio<br />\n<br />\nHalloween Costumes Encouraged!</em></strong></span></span></span></div>\n<br />\n<span style="font-size:22px\;"><span style="font-family:verdana\;">Join us as <strong><span style="color:#FF8C00\;">Embrace Home Loans</span></strong> hosts our October networking event.<br />\n<br />\nMarcos Sanchez\, a self avowed culinary buff\, will be serving up Paella dishes\, cooked on an open flame\, to delight your taste buds.<br />\n<br />\nLet&#39\;s help Marcos prepare by registering early! We hope to see you there!</span></span><br />\n&nbsp\;
LOCATION:
UID:e.1793.5826
SEQUENCE:3
DTSTAMP:20260421T212405Z
URL:https://business.olneymd.org/events/details/october-networking-mixer-paella-party-on-the-patio-5826
END:VEVENT

END:VCALENDAR
