BEGIN:VCALENDAR
VERSION:2.0
PRODID:-//ChamberMaster//Event Calendar 2.0//EN
METHOD:PUBLISH
X-PUBLISHED-TTL:P3D
REFRESH-INTERVAL:P3D
CALSCALE:GREGORIAN
BEGIN:VEVENT
DTSTART:20220224T223000Z
DTEND:20220225T003000Z
X-MICROSOFT-CDO-ALLDAYEVENT:FALSE
SUMMARY:Networking Mixer - Integrated Sport\, Spine & Rehab
DESCRIPTION:Join Olney's finest business owners and Chamber members as we mix and mingle in Laytonsville! It will be a great opportunity to establish new contacts to build a successful New Year. \n\nThis is your chance to tour the Integrated Sport\, Spine and Rehab facility and learn more about this specialized business.\n\nPlease feel free to bring a guest!\n\nEvent is dependent on current health guidelines\n\n\n\nLocated in the red "barn" building just past the shopping center on your left\, driving from Olney. There is a parking lot\, or you can park at the end of the shopping center.
X-ALT-DESC;FMTTYPE=text/html:<br />\nJoin Olney&#39\;s finest business owners and Chamber members as we mix and mingle in Laytonsville!&nbsp\;It will be a great opportunity to establish new contacts to build a successful New Year.&nbsp\;<br />\nThis is your chance to tour the <strong><em>Integrated Sport\, Spine and Rehab </em></strong>facility and learn more about this specialized business.<br />\nPlease feel free to bring a guest!<br />\n<em>Event is dependent on current health guidelines</em><br />\n<br />\n<span style="background-color: rgb(255\, 255\, 255)\;"><i>Located in the red &quot\;barn&quot\; building just past the shopping center on your left\, driving from Olney. There is a parking lot\, or you can park at the end of the shopping center.&nbsp\;</i></span><span style="color: rgb(5\, 5\, 5)\; font-family: system-ui\, -apple-system\, &quot\;system-ui&quot\;\, &quot\;.SFNSText-Regular&quot\;\, sans-serif\; font-size: 15px\; white-space: pre-wrap\; background-color: rgb(228\, 230\, 235)\;"> </span><br />\n<br />\n&nbsp\;
LOCATION:
UID:e.1793.5369
SEQUENCE:3
DTSTAMP:20260422T110459Z
URL:https://business.olneymd.org/events/details/networking-mixer-integrated-sport-spine-rehab-5369
END:VEVENT

END:VCALENDAR
