BEGIN:VCALENDAR
VERSION:2.0
PRODID:-//ChamberMaster//Event Calendar 2.0//EN
METHOD:PUBLISH
X-PUBLISHED-TTL:P3D
REFRESH-INTERVAL:P3D
CALSCALE:GREGORIAN
BEGIN:VEVENT
DTSTART;VALUE=DATE:20250524
DTEND;VALUE=DATE:20250525
TRANSP:TRANSPARENT
X-MICROSOFT-CDO-ALLDAYEVENT:TRUE
SUMMARY:MID-County Hub Food Distribution
DESCRIPTION:Drive-Thru Food Distribution\n\n\n\n\n\nSaturdays:  9: 00 AM - 11:00 AM\n\n\n\nAppointments &\n\nEmergency Pickup\n\nTues\, Wed\, Fri: 10:00 AM - 4:00 PM\n\n\n\nWe make home deliveries to the elderly\, those affected by the Economic crisis\, single parents\, bereaved individuals\, evicted individuals\, and those affected by a fire or other disasters.
X-ALT-DESC;FMTTYPE=text/html:<div>\n<div>\n<p>Drive-Thru Food Distribution</p>\n</div>\n</div>\n\n<div>\n<div>\n<p><span style="color:rgb(68\, 23\, 56)">Saturdays:&nbsp\; 9: 00 AM - 11:00 AM</span></p>\n\n<p><br />\n<strong>Appointments &amp\;<br />\nEmergency Pickup</strong><br />\n<span style="color:rgb(68\, 23\, 56)">Tues\, Wed\, Fri: 10:00 AM - 4:00 PM</span></p>\n\n<p><br />\nWe make home deliveries to the elderly\, those affected by the Economic crisis\, single parents\, bereaved individuals\, evicted individuals\, and those affected by a fire or other disasters.</p>\n</div>\n</div>\n
LOCATION:
UID:e.1793.6984
SEQUENCE:3
DTSTAMP:20260421T130916Z
URL:https://business.olneymd.org/events/details/mid-county-hub-food-distribution-05-24-2025-6984
END:VEVENT

END:VCALENDAR
