BEGIN:VCALENDAR
VERSION:2.0
PRODID:-//ChamberMaster//Event Calendar 2.0//EN
METHOD:PUBLISH
X-PUBLISHED-TTL:P3D
REFRESH-INTERVAL:P3D
CALSCALE:GREGORIAN
BEGIN:VEVENT
DTSTART:20250529T170000Z
DTEND:20250529T183000Z
X-MICROSOFT-CDO-ALLDAYEVENT:FALSE
SUMMARY:Members Only Free Webinar - AI Training for Small Businesses
DESCRIPTION:We're excited to offer our Olney Chamber members an exclusive opportunity to elevate your business with cutting-edge AI knowledge at NO CHARGE!\n\nJoin us on Thursday\, May 29th at 1 p.m. for a special 90-minute webinar designed specifically for small business owners like you.\n\nWhat You'll Learn:\n\n\n	Save Time: Explore use cases to understand how AI can free up your time.\n	Be More Productive: Discover ways AI can make you and your team more productive and get more done.\n	Enhance Your Creativity: Learn how to create professional-quality marketing materials with AI.\n\n\nFlexible Viewing Options - Attend live or watch on-demand at your convenience.\n\nThis webinar is a member-only benefit.\n\nThis is a unique chance to gain valuable skills that will help you stay ahead in today's competitive market.\n\nWe encourage you to take advantage of this opportunity!\n\n\n\nTHE LINK WILL BE SENT OUT TO ALL REGISTRANTS...WATCH YOUR EMAIL AND CONTACT US IF YOU DON'T RECEIVE IT!
X-ALT-DESC;FMTTYPE=text/html:&nbsp\;\n<p><span style="font-size: 14px\;"><span style="font-family: arial\;">We&rsquo\;re excited to offer our Olney Chamber members an exclusive opportunity to elevate your business with cutting-edge AI knowledge at <span style="color:#0000CD\;"><em>NO CHARGE</em></span>!<br />\nJoin us on <strong><em>Thursday\, May 29th at 1 p.m. </em></strong>for a special 90-minute webinar designed specifically for small business owners like you.<br />\n<strong>What You&rsquo\;ll Learn:</strong></span></span></p>\n\n<ul>\n	<li style="margin: 0in 0in 8pt\; line-height: 18.4px\; font-size: 12pt\; font-family: Aptos\, sans-serif\;"><span style="font-size: 14px\;"><span style="font-family: arial\;"><strong>Save Time:</strong>&nbsp\;Explore use cases to understand how AI can free up your time.</span></span></li>\n	<li style="margin: 0in 0in 8pt\; line-height: 18.4px\; font-size: 12pt\; font-family: Aptos\, sans-serif\;"><span style="font-size: 14px\;"><span style="font-family: arial\;"><strong>Be More Productive:</strong>&nbsp\;Discover ways AI can make you and your team more productive and get more done.</span></span></li>\n	<li style="margin: 0in 0in 8pt\; line-height: 18.4px\; font-size: 12pt\; font-family: Aptos\, sans-serif\;"><span style="font-size: 14px\;"><span style="font-family: arial\;"><strong>Enhance Your Creativity:</strong>&nbsp\;Learn how to create professional-quality marketing materials with AI.</span></span></li>\n</ul>\n\n<p><span style="font-size: 14px\;"><span style="font-family: arial\;">Flexible Viewing Options - Attend live or watch on-demand at your convenience.<br />\nThis webinar is a member-only benefit.<br />\nThis is a unique chance to gain valuable skills that will help you stay ahead in today&rsquo\;s competitive market.<br />\nWe encourage you to take advantage of this opportunity!</span></span><br />\n<br />\n<span style="color:#0000CD\;"><em><strong>THE LINK WILL BE SENT OUT TO ALL REGISTRANTS...WATCH YOUR EMAIL AND CONTACT US IF YOU DON&#39\;T RECEIVE IT!</strong></em></span></p>\n
LOCATION:Virtual!
UID:e.1793.6845
SEQUENCE:3
DTSTAMP:20260421T132553Z
URL:https://business.olneymd.org/events/details/members-only-free-webinar-ai-training-for-small-businesses-6845
END:VEVENT

END:VCALENDAR
