BEGIN:VCALENDAR
VERSION:2.0
PRODID:-//ChamberMaster//Event Calendar 2.0//EN
METHOD:PUBLISH
X-PUBLISHED-TTL:P3D
REFRESH-INTERVAL:P3D
CALSCALE:GREGORIAN
BEGIN:VEVENT
DTSTART:20220514T160000Z
DTEND:20220514T220000Z
X-MICROSOFT-CDO-ALLDAYEVENT:FALSE
SUMMARY:MCPD Community Day
DESCRIPTION:In celebration of our 100th Anniversary\, the Montgomery County Police Department\, is hosting Community Day on Saturday\, May 14\, 2022\, at the Montgomery County Fairgrounds! This is the largest community event the department has ever hosted and we look forward to seeing you there.  Each District Station\, Community Engagement Division\, Recruitment Division\, and some investigative divisions will have static displays and personnel present.  The expectation is that we thoroughly showcase our department and all it has to offer.  MCPD is excited to interact with community members and we look forward to seeing everyone there.  \n \nAlong with Police and Fire Displays\, there will be activities\, food trucks\, face painting\, music\, fun kid activities\, K9 and Motorcycle displays\, and a community stage with performances.\n\n\n\nHere are some of the participating food truck vendors:\n\n\n\nPhelps Concessions\n\nChurros\, Inc.\n\nThe Hotdog Hideout\n\nDizzy Cow Pizzeria\n\nWhistle Punk Farm Food Truck\n\nGrilled Cheese Please\n\nThe Sprinkled Cow\n\nThe Sauced Savage BBQ\n\nROLLIN' SMOKE BBQ\n\nDogs On The Curb\n\nCorned Beef King\n\nPhoWheeLs\n\nDiego's World\n\nLattimore's Funnel Cakes\n\nTraditional Authentic Mexican Food\n\nConrad's Crabs & Seafood Market -Parkville\, MD\n\nPop-up Poutine\n\nSips & Sweets - Mobile Desserts\n\nBlackout Nuts & Candies\n\n\n\nTo learn more about our 100th Anniversary events\, please visit: https://www.mcpd100.org/
X-ALT-DESC;FMTTYPE=text/html:<span style="color:rgb(38\, 38\, 38)\; font-family:-apple-system\,blinkmacsystemfont\,segoe ui\,roboto\,helvetica\,arial\,sans-serif\; font-size:14px">In celebration of our 100th Anniversary\, the Montgomery County Police Department\, is hosting Community Day on Saturday\, May 14\, 2022\, at the Montgomery County Fairgrounds!&nbsp\;This is the largest community event the department has ever hosted and we look forward to seeing you there.&nbsp\; Each District Station\, Community Engagement Division\, Recruitment Division\, and some investigative divisions will have static displays and personnel present.&nbsp\; The expectation is that we thoroughly showcase our department and all it has to offer.&nbsp\; MCPD is excited to interact with community members and we look forward to seeing everyone there.&nbsp\;&nbsp\;</span>\n<h2 style="text-align:center">&nbsp\;</h2>\nAlong with Police and Fire Displays\, there will be activities\, food trucks\, face painting\, music\, fun kid activities\, K9 and Motorcycle displays\, and a community stage with performances.<br />\n<br />\n<span style="color:rgb(38\, 38\, 38)\; font-family:-apple-system\,blinkmacsystemfont\,segoe ui\,roboto\,helvetica\,arial\,sans-serif\; font-size:14px">Here are some of the participating food truck vendors:</span><br />\n<br />\n<span style="color:rgb(38\, 38\, 38)\; font-family:-apple-system\,blinkmacsystemfont\,segoe ui\,roboto\,helvetica\,arial\,sans-serif\; font-size:14px">Phelps Concessions</span><br />\n<span style="color:rgb(38\, 38\, 38)\; font-family:-apple-system\,blinkmacsystemfont\,segoe ui\,roboto\,helvetica\,arial\,sans-serif\; font-size:14px">Churros\, Inc.</span><br />\n<span style="color:rgb(38\, 38\, 38)\; font-family:-apple-system\,blinkmacsystemfont\,segoe ui\,roboto\,helvetica\,arial\,sans-serif\; font-size:14px">The Hotdog Hideout</span><br />\n<span style="color:rgb(38\, 38\, 38)\; font-family:-apple-system\,blinkmacsystemfont\,segoe ui\,roboto\,helvetica\,arial\,sans-serif\; font-size:14px">Dizzy Cow Pizzeria</span><br />\n<span style="color:rgb(38\, 38\, 38)\; font-family:-apple-system\,blinkmacsystemfont\,segoe ui\,roboto\,helvetica\,arial\,sans-serif\; font-size:14px">Whistle Punk Farm Food Truck</span><br />\n<span style="color:rgb(38\, 38\, 38)\; font-family:-apple-system\,blinkmacsystemfont\,segoe ui\,roboto\,helvetica\,arial\,sans-serif\; font-size:14px">Grilled Cheese Please</span><br />\n<span style="color:rgb(38\, 38\, 38)\; font-family:-apple-system\,blinkmacsystemfont\,segoe ui\,roboto\,helvetica\,arial\,sans-serif\; font-size:14px">The Sprinkled Cow</span><br />\n<span style="color:rgb(38\, 38\, 38)\; font-family:-apple-system\,blinkmacsystemfont\,segoe ui\,roboto\,helvetica\,arial\,sans-serif\; font-size:14px">The Sauced Savage BBQ</span><br />\n<span style="color:rgb(38\, 38\, 38)\; font-family:-apple-system\,blinkmacsystemfont\,segoe ui\,roboto\,helvetica\,arial\,sans-serif\; font-size:14px">ROLLIN&rsquo\; SMOKE BBQ</span><br />\n<span style="color:rgb(38\, 38\, 38)\; font-family:-apple-system\,blinkmacsystemfont\,segoe ui\,roboto\,helvetica\,arial\,sans-serif\; font-size:14px">Dogs On The Curb</span><br />\n<span style="color:rgb(38\, 38\, 38)\; font-family:-apple-system\,blinkmacsystemfont\,segoe ui\,roboto\,helvetica\,arial\,sans-serif\; font-size:14px">Corned Beef King</span><br />\n<span style="color:rgb(38\, 38\, 38)\; font-family:-apple-system\,blinkmacsystemfont\,segoe ui\,roboto\,helvetica\,arial\,sans-serif\; font-size:14px">PhoWheeLs</span><br />\n<span style="color:rgb(38\, 38\, 38)\; font-family:-apple-system\,blinkmacsystemfont\,segoe ui\,roboto\,helvetica\,arial\,sans-serif\; font-size:14px">Diego&#39\;s World</span><br />\n<span style="color:rgb(38\, 38\, 38)\; font-family:-apple-system\,blinkmacsystemfont\,segoe ui\,roboto\,helvetica\,arial\,sans-serif\; font-size:14px">Lattimore&#39\;s Funnel Cakes</span><br />\n<span style="color:rgb(38\, 38\, 38)\; font-family:-apple-system\,blinkmacsystemfont\,segoe ui\,roboto\,helvetica\,arial\,sans-serif\; font-size:14px">Traditional Authentic Mexican Food</span><br />\n<span style="color:rgb(38\, 38\, 38)\; font-family:-apple-system\,blinkmacsystemfont\,segoe ui\,roboto\,helvetica\,arial\,sans-serif\; font-size:14px">Conrad&#39\;s Crabs &amp\; Seafood Market -Parkville\, MD</span><br />\n<span style="color:rgb(38\, 38\, 38)\; font-family:-apple-system\,blinkmacsystemfont\,segoe ui\,roboto\,helvetica\,arial\,sans-serif\; font-size:14px">Pop-up Poutine</span><br />\n<span style="color:rgb(38\, 38\, 38)\; font-family:-apple-system\,blinkmacsystemfont\,segoe ui\,roboto\,helvetica\,arial\,sans-serif\; font-size:14px">Sips &amp\; Sweets - Mobile Desserts</span><br />\n<span style="color:rgb(38\, 38\, 38)\; font-family:-apple-system\,blinkmacsystemfont\,segoe ui\,roboto\,helvetica\,arial\,sans-serif\; font-size:14px">Blackout Nuts &amp\; Candies</span><br />\n<br />\n<span style="color:rgb(38\, 38\, 38)\; font-family:-apple-system\,blinkmacsystemfont\,segoe ui\,roboto\,helvetica\,arial\,sans-serif\; font-size:14px">To learn more about our 100th Anniversary events\, please visit: https://www.mcpd100.org/</span>
LOCATION:Montgomery County Fairgrounds. 501 Perry Parkway Gaithersburg\, MD 20877
UID:e.1793.5542
SEQUENCE:3
DTSTAMP:20260422T022424Z
URL:https://business.olneymd.org/events/details/mcpd-community-day-5542
END:VEVENT

END:VCALENDAR
