BEGIN:VCALENDAR
VERSION:2.0
PRODID:-//ChamberMaster//Event Calendar 2.0//EN
METHOD:PUBLISH
X-PUBLISHED-TTL:P3D
REFRESH-INTERVAL:P3D
CALSCALE:GREGORIAN
BEGIN:VEVENT
DTSTART:20250513T220000Z
DTEND:20250514T010000Z
X-MICROSOFT-CDO-ALLDAYEVENT:FALSE
SUMMARY:May Senior Care Connect- GO Rides 7th Annual Bingo Night!
DESCRIPTION:BINGO NIGHT ALERT!  \n\nJoin the Senior Care Connect Group for GO RIDES' 7th Annual Bingo Night   a fun-filled evening supporting free transportation for seniors in our community!    \n\n  Date: May 13\, 2025\n\n  Time: 6:00   9:00 PM\n\n  Location: Sandy Spring Volunteer Fire Department\, The Oak Room\, 17921 Brooke Rd\, Sandy Spring\, MD\n\n  $40 Admission (Must be 21+ to play)\n\n  Includes 12 bingo games with prizes  \n\n  Beverages (beer\, wine\, iced tea\, water)   \n\n  Lite fare   \n\n  Bingo winners get an exclusive gift bag!\n\n  Bring cash for raffles!\n\n  Register now: tinyurl.com/GORIDESBingo2025 or pay at the door!\n\n  Questions? Contact Pam at 240-793-2154\n\nCome play\, win prizes\, and make a difference for seniors! See you there!
X-ALT-DESC;FMTTYPE=text/html:<p style="box-sizing: border-box\; margin-block: 0px 0.9rem\; margin-bottom: 16px\; font-size: 18px\; line-height: 1.5\; color: rgb(20\, 24\, 39)\; font-family: &quot\;Helvetica Neue&quot\;\, Helvetica\, -apple-system\, &quot\;system-ui&quot\;\, Roboto\, Arial\, sans-serif\;">&#127881\; BINGO NIGHT ALERT! &#127881\;</p>\n\n<p style="box-sizing: border-box\; margin-block: 0px 0.9rem\; margin-bottom: 16px\; font-size: 18px\; line-height: 1.5\; color: rgb(20\, 24\, 39)\; font-family: &quot\;Helvetica Neue&quot\;\, Helvetica\, -apple-system\, &quot\;system-ui&quot\;\, Roboto\, Arial\, sans-serif\;">Join the Senior Care Connect Group&nbsp\;for GO RIDES&rsquo\; 7th Annual Bingo Night &ndash\; a fun-filled evening supporting free transportation for seniors in our community! &#128663\;&#10084\;&#65039\;</p>\n\n<p style="box-sizing: border-box\; margin-block: 0px 0.9rem\; margin-bottom: 16px\; font-size: 18px\; line-height: 1.5\; color: rgb(20\, 24\, 39)\; font-family: &quot\;Helvetica Neue&quot\;\, Helvetica\, -apple-system\, &quot\;system-ui&quot\;\, Roboto\, Arial\, sans-serif\;">&#128197\; Date: May 13\, 2025<br style="box-sizing: border-box\;" />\n&#9200\; Time: 6:00 &ndash\; 9:00 PM<br style="box-sizing: border-box\;" />\n&#128205\; Location: Sandy Spring Volunteer&nbsp\;Fire Department\, The Oak Room\, 17921 Brooke Rd\, Sandy Spring\, MD</p>\n\n<p style="box-sizing: border-box\; margin-block: 0px 0.9rem\; margin-bottom: 16px\; font-size: 18px\; line-height: 1.5\; color: rgb(20\, 24\, 39)\; font-family: &quot\;Helvetica Neue&quot\;\, Helvetica\, -apple-system\, &quot\;system-ui&quot\;\, Roboto\, Arial\, sans-serif\;">&#128176\; $40 Admission (Must be 21+ to play)<br style="box-sizing: border-box\;" />\n&#9989\; Includes 12 bingo games with prizes &#127873\;<br style="box-sizing: border-box\;" />\n&#9989\; Beverages (beer\, wine\, iced tea\, water) &#127863\;&#9749\;<br style="box-sizing: border-box\;" />\n&#9989\; Lite fare &#127869\;&#65039\;</p>\n\n<p style="box-sizing: border-box\; margin-block: 0px 0.9rem\; margin-bottom: 16px\; font-size: 18px\; line-height: 1.5\; color: rgb(20\, 24\, 39)\; font-family: &quot\;Helvetica Neue&quot\;\, Helvetica\, -apple-system\, &quot\;system-ui&quot\;\, Roboto\, Arial\, sans-serif\;">&#127942\; Bingo winners get an exclusive gift bag!<br style="box-sizing: border-box\;" />\n&#128181\; Bring cash for raffles!</p>\n\n<p style="box-sizing: border-box\; margin-block: 0px 0.9rem\; margin-bottom: 16px\; font-size: 18px\; line-height: 1.5\; color: rgb(20\, 24\, 39)\; font-family: &quot\;Helvetica Neue&quot\;\, Helvetica\, -apple-system\, &quot\;system-ui&quot\;\, Roboto\, Arial\, sans-serif\;">&#128279\; Register now: tinyurl.com/GORIDESBingo2025 or pay at the door!</p>\n\n<p style="box-sizing: border-box\; margin-block: 0px 0.9rem\; margin-bottom: 16px\; font-size: 18px\; line-height: 1.5\; color: rgb(20\, 24\, 39)\; font-family: &quot\;Helvetica Neue&quot\;\, Helvetica\, -apple-system\, &quot\;system-ui&quot\;\, Roboto\, Arial\, sans-serif\;">&#128222\; Questions? Contact Pam at 240-793-2154</p>\n\n<p style="box-sizing: border-box\; margin-block: 0px 0.9rem\; margin-bottom: 16px\; font-size: 18px\; line-height: 1.5\; color: rgb(20\, 24\, 39)\; font-family: &quot\;Helvetica Neue&quot\;\, Helvetica\, -apple-system\, &quot\;system-ui&quot\;\, Roboto\, Arial\, sans-serif\;">Come play\, win prizes\, and make a difference for seniors! See you there! &#127882\;</p>\n
LOCATION:Sandy Spring Volunteer Fire Department\, The Oak Room\, 17921 Brooke Rd\, Sandy Spring\, MD
UID:e.1793.6637
SEQUENCE:3
DTSTAMP:20260421T114421Z
URL:https://business.olneymd.org/events/details/may-senior-care-connect-go-rides-7th-annual-bingo-night-6637
END:VEVENT

END:VCALENDAR
