BEGIN:VCALENDAR
VERSION:2.0
PRODID:-//ChamberMaster//Event Calendar 2.0//EN
METHOD:PUBLISH
X-PUBLISHED-TTL:P3D
REFRESH-INTERVAL:P3D
CALSCALE:GREGORIAN
BEGIN:VEVENT
DTSTART:20250327T213000Z
DTEND:20250327T233000Z
X-MICROSOFT-CDO-ALLDAYEVENT:FALSE
SUMMARY:March Networking Mixer
DESCRIPTION:Pogo Tree Experts will be hosting our March Networking Mixer as we mix and mingle\, enjoy refreshments (Gardentails!)\, take a tour\, see a sawmill demonstration\, and  walk the yard to understand how and what they do! We'll meet up in the Community Building to begin the fun. Wear comfortable shoes\, no heels!
X-ALT-DESC;FMTTYPE=text/html:<p><span style="font-size:16px\;"><span style="font-family:arial\;">Pogo Tree Experts will be hosting our March Networking Mixer as we mix and mingle\, enjoy refreshments (Gardentails!)\,&nbsp\;take a tour\, see a sawmill demonstration\, and&nbsp\; walk the yard to understand how and&nbsp\;what they&nbsp\;do! We&#39\;ll meet up in the Community Building to begin the fun.&nbsp\;Wear comfortable shoes\, no heels!&nbsp\;</span></span><br />\n<br />\n<br />\n<br />\n&nbsp\;</p>\n
LOCATION:Community Building 21601 New Hampshire Avenue Brookville\, Maryland
UID:e.1793.6628
SEQUENCE:3
DTSTAMP:20260421T113656Z
URL:https://business.olneymd.org/events/details/march-networking-mixer-6628
END:VEVENT

END:VCALENDAR
