BEGIN:VCALENDAR
VERSION:2.0
PRODID:-//ChamberMaster//Event Calendar 2.0//EN
METHOD:PUBLISH
X-PUBLISHED-TTL:P3D
REFRESH-INTERVAL:P3D
CALSCALE:GREGORIAN
BEGIN:VEVENT
DTSTART:20250416T150000Z
DTEND:20250416T170000Z
X-MICROSOFT-CDO-ALLDAYEVENT:FALSE
SUMMARY:Living Breezy: Elegant Screen Solutions for Your Home
DESCRIPTION:You're invited for free lunch and a presentation in our Design Studio to explore Phantom retractable screens\, interior window treatments\, and awnings while enjoying light refreshments.  Whether you're wondering about elegant\, practical screens for your doors\, windows\, or covered patios\, these samples and visual representations will delight and inspire.
X-ALT-DESC;FMTTYPE=text/html:You&#39\;re invited for free lunch and a presentation in our Design Studio to explore Phantom retractable screens\, interior window treatments\, and awnings while enjoying light refreshments. &nbsp\;Whether you&#39\;re wondering about elegant\, practical screens for your doors\, windows\, or covered patios\, these samples and visual representations will delight and inspire.
LOCATION:House to Home Solutions 15745 Crabbs Branch Way Rockville\, MD. 20855
UID:e.1793.6624
SEQUENCE:3
DTSTAMP:20260421T114030Z
URL:https://business.olneymd.org/events/details/living-breezy-elegant-screen-solutions-for-your-home-6624
END:VEVENT

END:VCALENDAR
