BEGIN:VCALENDAR
VERSION:2.0
PRODID:-//ChamberMaster//Event Calendar 2.0//EN
METHOD:PUBLISH
X-PUBLISHED-TTL:P3D
REFRESH-INTERVAL:P3D
CALSCALE:GREGORIAN
BEGIN:VEVENT
DTSTART:20250628T223000Z
DTEND:20250629T003000Z
X-MICROSOFT-CDO-ALLDAYEVENT:FALSE
SUMMARY:Knine Rescue + Cropdusters CARES Night
DESCRIPTION:The Cropdusters CARES initiative is our team's way of giving back to the local community that supports us. Our goal is to make a meaningful\, positive impact on families in our neighborhood   helping brighten each day through service and connection.\n\nWe empower our players\, coaches\, staff\, and dedicated volunteers to engage directly with local nonprofits\, supporting their missions to build a stronger\, more compassionate community. Cropdusters CARES about the people around us.\n\nSince 2005\, Knine Rescue has been dedicated to helping neglected\, abandoned\, and homeless animals find loving forever homes. We partner with shelters and other rescues   both locally and beyond   to give these animals a second chance. Our mission is to promote responsible pet ownership by educating the public on the importance of spaying/neutering\, positive training methods\, and proper veterinary care. We are thankful for our incredible network of volunteers\, foster families\, veterinarians\, trainers\, and boarding facilities.\n\nJoin us at the June 28th game for a chance to meet some of the adorable adoptable dogs! You can also support the mission by bringing food\, toys\, and other items from their needs list. Visit Donate - Knine Rescue for additional information.\n\nAnyone interested in getting pre-approved to adopt on-site on the 28th can fill out a non-binding application in advance at Adoption - Knine Rescue.
X-ALT-DESC;FMTTYPE=text/html:<p><span style="color:#000080"><span style="font-size:16px"><span style="font-family:arial\,helvetica\,sans-serif">The <strong>Cropdusters CARES</strong> initiative is our team&rsquo\;s way of giving back to the local community that supports us. Our goal is to make a meaningful\, positive impact on families in our neighborhood &mdash\; helping brighten each day through service and connection.</span></span></span></p>\n\n<p><span style="color:#000080"><span style="font-family:arial\,helvetica\,sans-serif\; font-size:16px">We empower our players\, coaches\, staff\, and dedicated volunteers to engage directly with local nonprofits\, supporting their missions to build a stronger\, more compassionate community. <strong>Cropdusters CARES</strong>&nbsp\;</span><span style="font-family:arial\,helvetica\,sans-serif\; font-size:16px">about the people around us.</span></span></p>\n\n<p><span style="color:#000080"><span style="font-size:16px"><span style="font-family:aptos\,sans-serif">Since 2005\,&nbsp\;</span><strong><span style="font-family:aptos\,sans-serif">Knine</span></strong><span style="font-family:aptos\,sans-serif"><strong>&nbsp\;Rescue</strong> has been dedicated to helping neglected\, abandoned\, and homeless animals find loving forever homes. We partner with shelters and other rescues &ndash\; both locally and beyond &ndash\; to give these animals a second chance. Our mission is to promote responsible pet ownership by educating the public on the importance of spaying/neutering\, positive training methods\, and proper veterinary care. We are thankful for our incredible network of volunteers\, foster families\, veterinarians\, trainers\, and boarding facilities.</span></span></span></p>\n\n<p><span style="color:#000080"><span style="font-size:16px"><span style="font-family:aptos\,sans-serif">Join us at the June 28th game for a chance to meet some of the adorable adoptable dogs! You can also support the mission by bringing food\, toys\, and other items from their needs list. Visit&nbsp\;</span></span></span><span style="font-size:16px"><u><a href="https://kninerescue.com/donate/" style="color: blue\; font-family: Aptos\, sans-serif\; font-size: small\;" target="_blank"><span style="color:#B22222"><strong>Donate -&nbsp\;Knine&nbsp\;Rescue</strong></span></a></u></span><span style="color:#000080"><span style="font-size:16px"><span style="font-family:aptos\,sans-serif">&nbsp\;for additional information.</span></span></span></p>\n\n<p><span style="font-size:16px"><span style="color:#000080"><span style="font-family:aptos\,sans-serif">Anyone interested in getting pre-approved to adopt on-site on the 28</span><sup>th</sup><span style="font-family:aptos\,sans-serif">&nbsp\;can fill out a non-binding application in advance at&nbsp\;</span></span><strong><u><a href="https://kninerescue.com/adoption/" style="color: blue\; font-family: Aptos\, sans-serif\; font-size: small\;" target="_blank"><span style="color:#B22222">Adoption -&nbsp\;Knine&nbsp\;Rescue</span></a><span style="color:#B22222">.</span></u></strong></span></p>\n
LOCATION:OBGC First Responder Field at ServPro Stadium 4501 Olney-Laytonsville Road Olney\, MD
UID:e.1793.6992
SEQUENCE:3
DTSTAMP:20260419T170510Z
URL:https://business.olneymd.org/events/details/knine-rescue-cropdusters-cares-night-6992
END:VEVENT

END:VCALENDAR
