BEGIN:VCALENDAR
VERSION:2.0
PRODID:-//ChamberMaster//Event Calendar 2.0//EN
METHOD:PUBLISH
X-PUBLISHED-TTL:P3D
REFRESH-INTERVAL:P3D
CALSCALE:GREGORIAN
BEGIN:VEVENT
DTSTART:20250718T130000Z
DTEND:20250718T140000Z
X-MICROSOFT-CDO-ALLDAYEVENT:FALSE
SUMMARY:Joint Zoom Networking Monthly Mixer
DESCRIPTION:Building on the overwhelming success of our in-person speed networking mixers\, we are thrilled to offer a new opportunity for professionals to connect and collaborate. This time in a virtual format! We've partnered with several local organizations to bring you Online Joint Speed Networking\, a dynamic event designed to help you expand your network and establish meaningful connections across various industries.\n\nPlease register here:  https://supportingstrategies.zoom.us/meeting/register/vuhkg6tZRSihvFxe_TOkCQ\n\nEvent Details:\n\n  Date: 3rd Friday of Every Month \n\n  Time: 9:00 - 10:15 AM\n\n  Location: Virtually on Zoom\n\nWhy Attend?\n\n\n	Broaden Your Reach: Meet and network with professionals from a diverse range of industries.\n	Collaborate and Learn: Share your goals\, ideas\, and expertise with others who can support your growth.\n	Convenient Networking: Enjoy the benefits of speed networking without the need to travel?engage from wherever you are!\n\n\nJoin us for this exciting opportunity to strengthen your professional connections and discover new possibilities for collaboration. Don't miss out!
X-ALT-DESC;FMTTYPE=text/html:<p>Building on the overwhelming success of our in-person speed networking mixers\, we are thrilled to offer a new opportunity for professionals to connect and collaborate. This time in a virtual format! We&#39\;ve partnered with several local organizations to bring you&nbsp\;<strong>Online Joint Speed Networking</strong>\, a dynamic event designed to help you expand your network and establish meaningful connections across various industries.</p>\n\n<p><span style="box-sizing: border-box\; font-weight: bolder\; color: rgb(29\, 69\, 105)\; font-family: Poppins\, sans-serif\; font-size: 16px\;">Please register here:&nbsp\;&nbsp\;</span><a data-saferedirecturl="https://www.google.com/url?q=https://supportingstrategies.zoom.us/meeting/register/vuhkg6tZRSihvFxe_TOkCQ&amp\;source=gmail&amp\;ust=1751378341232000&amp\;usg=AOvVaw1EKXWVGyiqG3t83l3oZ-A0" href="https://supportingstrategies.zoom.us/meeting/register/vuhkg6tZRSihvFxe_TOkCQ" style="color: rgb(17\, 85\, 204)\; font-family: Arial\, Helvetica\, sans-serif\; font-size: small\; background-color: rgb(255\, 255\, 255)\;" target="_blank">https://supportingstrategies.<wbr />zoom.us/meeting/register/<wbr />vuhkg6tZRSihvFxe_TOkCQ</a><br />\n<strong>Event Details:</strong><br />\n&#128197\;&nbsp\;<strong>Date:</strong>&nbsp\;<strong>3rd Friday of Every Month&nbsp\;</strong><br />\n&#128344\;&nbsp\;<strong>Time:</strong>&nbsp\;<strong>9:00 -&nbsp\;</strong><strong>10:15&nbsp\;AM</strong></p>\n\n<p>&#128205\;&nbsp\;<strong>Location:</strong>&nbsp\;<strong>Virtually on Zoom</strong></p>\n\n<p><strong>Why Attend?</strong></p>\n\n<ul>\n	<li><strong>Broaden Your Reach:</strong>&nbsp\;Meet and network with professionals from a diverse range of industries.</li>\n	<li><strong>Collaborate and Learn:</strong>&nbsp\;Share your goals\, ideas\, and expertise with others who can support your growth.</li>\n	<li><strong>Convenient Networking:</strong>&nbsp\;Enjoy the benefits of speed networking without the need to travel?engage from wherever you are!</li>\n</ul>\n\n<p>Join us for this exciting opportunity to strengthen your professional connections and discover new possibilities for collaboration. Don&#39\;t miss out!</p>\n
LOCATION:
UID:e.1793.6987
SEQUENCE:3
DTSTAMP:20260421T113331Z
URL:https://business.olneymd.org/events/details/joint-zoom-networking-monthly-mixer-6987
END:VEVENT

END:VCALENDAR
