BEGIN:VCALENDAR
VERSION:2.0
PRODID:-//ChamberMaster//Event Calendar 2.0//EN
METHOD:PUBLISH
X-PUBLISHED-TTL:P3D
REFRESH-INTERVAL:P3D
CALSCALE:GREGORIAN
BEGIN:VEVENT
DTSTART;VALUE=DATE:20250219
DTEND;VALUE=DATE:20250220
TRANSP:TRANSPARENT
X-MICROSOFT-CDO-ALLDAYEVENT:TRUE
SUMMARY:Joint Chamber Young Professionals Networking Mixer
DESCRIPTION:Join us for an exciting joint Young Professionals event where like-minded individuals from various industries come together to network\, learn\, and grow! This is a fantastic opportunity to expand your professional circle\, share experiences\, and gain valuable insights from guest speakers and industry leaders. Whether you're looking to collaborate on projects\, discuss current trends\, or simply meet new people\, this event offers a welcoming and dynamic environment for young professionals to thrive. Don't miss out on this chance to build meaningful connections and take your career to the next level! Reach out to Nick Comeau for more information\n\nNcomeau@fhmtg.com\n\n240.743.9785
X-ALT-DESC;FMTTYPE=text/html:<div>\n<div>\n<div>\n<div>Join us for an exciting joint Young Professionals event where like-minded individuals from various industries come together to network\, learn\, and grow! This is a fantastic opportunity to expand your professional circle\, share experiences\, and gain valuable insights from guest speakers and industry leaders. Whether you&#39\;re looking to collaborate on projects\, discuss current trends\, or simply meet new people\, this event offers a welcoming and dynamic environment for young professionals to thrive. Don&rsquo\;t miss out on this chance to build meaningful connections and take your career to the next level! Reach out to Nick Comeau for more information<br />\nNcomeau@fhmtg.com<br />\n240.743.9785</div>\n</div>\n</div>\n</div>\n
LOCATION:Location: Bonchon\, Rockville Town Center 107 Gibbs Street\, Rockville\, MD 20850
UID:e.1793.6327
SEQUENCE:3
DTSTAMP:20260419T160950Z
URL:https://business.olneymd.org/events/details/joint-chamber-young-professionals-networking-mixer-6327
END:VEVENT

END:VCALENDAR
