BEGIN:VCALENDAR
VERSION:2.0
PRODID:-//ChamberMaster//Event Calendar 2.0//EN
METHOD:PUBLISH
X-PUBLISHED-TTL:P3D
REFRESH-INTERVAL:P3D
CALSCALE:GREGORIAN
BEGIN:VEVENT
DTSTART:20250428T210000Z
DTEND:20250428T230000Z
X-MICROSOFT-CDO-ALLDAYEVENT:FALSE
SUMMARY:Joint Chamber Young Professionals Networking Mixer
DESCRIPTION:The Olney Chamber is excited to host the joint Young Professionals Network (YPN) Networking Mixer at GrillMarx Steakhouse & Raw Bar in Olney\, MD. YPN is a platform designed to connect and support young professionals in their career development\, offering them opportunities to expand their networks\, gain valuable industry insights\, and collaborate with peers across various fields. This event\, in partnership with the Silver Spring\, Gaithersburg-Germantown\, Rockville\, and Bethesda Chambers of Commerce\, provides a unique opportunity for young professionals to meet\, share ideas\, and form lasting connections with like-minded individuals. Whether you're looking to grow your career\, share your expertise\, or find new business opportunities\, this mixer is the perfect environment to engage with the local professional community. Join us for an evening of networking and professional growth!
X-ALT-DESC;FMTTYPE=text/html:The Olney Chamber is excited to host the joint Young Professionals Network (YPN) Networking Mixer at GrillMarx Steakhouse &amp\; Raw Bar in Olney\, MD. YPN is a platform designed to connect and support young professionals in their career development\, offering them opportunities to expand their networks\, gain valuable industry insights\, and collaborate with peers across various fields. This event\, in partnership with the Silver Spring\, Gaithersburg-Germantown\, Rockville\, and Bethesda Chambers of Commerce\, provides a unique opportunity for young professionals to meet\, share ideas\, and form lasting connections with like-minded individuals. Whether you&rsquo\;re looking to grow your career\, share your expertise\, or find new business opportunities\, this mixer is the perfect environment to engage with the local professional community. Join us for an evening of networking and professional growth!
LOCATION:GrillMarx Olney Steakhouse & Raw Bar 18149 Town Center Dr\, Olney\, MD 20832
UID:e.1793.6623
SEQUENCE:3
DTSTAMP:20260421T114224Z
URL:https://business.olneymd.org/events/details/joint-chamber-young-professionals-networking-mixer-04-28-2025-6623
END:VEVENT

END:VCALENDAR
