BEGIN:VCALENDAR
VERSION:2.0
PRODID:-//ChamberMaster//Event Calendar 2.0//EN
METHOD:PUBLISH
X-PUBLISHED-TTL:P3D
REFRESH-INTERVAL:P3D
CALSCALE:GREGORIAN
BEGIN:VEVENT
DTSTART:20250521T150000Z
DTEND:20250521T170000Z
X-MICROSOFT-CDO-ALLDAYEVENT:FALSE
SUMMARY:House to Home Solutions Lunch & Learn: Relax\, Refresh\, Rejuvenate: Wellness Features for Kitchens and Bathrooms
DESCRIPTION:Caring for ourselves is the first step in caring for those around us.  Join us in our Rockville design studio for lunch and a presentation by Kohler on how to refresh yourself with luxury items and seamless designs in the kitchen and bathroom that help reduce stress and and give your family and your guests peace of mind.
X-ALT-DESC;FMTTYPE=text/html:<p>Caring for ourselves is the first step in caring for those around us.&nbsp\; Join us in our Rockville design studio for lunch and a presentation by Kohler on how to refresh yourself with luxury items and seamless designs in the kitchen and bathroom that help reduce stress and and give your family and your guests peace of mind.</p>\n\n<div>&nbsp\;</div>\n
LOCATION:House to Home Solutions 15745 Crabbs Branch Way Rockville\, MD 20855
UID:e.1793.6632
SEQUENCE:3
DTSTAMP:20260421T114358Z
URL:https://business.olneymd.org/events/details/house-to-home-solutions-lunch-learn-relax-refresh-rejuvenate-wellness-features-for-kitchens-and-bathrooms-6632
END:VEVENT

END:VCALENDAR
