BEGIN:VCALENDAR
VERSION:2.0
PRODID:-//ChamberMaster//Event Calendar 2.0//EN
METHOD:PUBLISH
X-PUBLISHED-TTL:P3D
REFRESH-INTERVAL:P3D
CALSCALE:GREGORIAN
BEGIN:VEVENT
DTSTART:20220308T230000Z
DTEND:20220309T000000Z
X-MICROSOFT-CDO-ALLDAYEVENT:FALSE
SUMMARY:Help! Someone I Love Has Dementia. Now What? Power of Attorney and Guardianship…Tell Me More
DESCRIPTION:Join us for this FREE Educational Webinar\n\nPresented by Mindy Felinton with Felinton Elder Law & Estate Planning Centers\n\nNavigating the legalities of how to make the best choices for a loved one newly diagnosed with cognitive deficits can be daunting. This free webinar will give you information to understand what is needed to legally make the best decisions for someone with dementia. What is a power of attorney? What does guardianship mean? You'll have a better understanding of what each one is\, when to obtain one\, information to help you determine which one you need\, and what the process is to make it valid.\n\n\n\nPlease Register by Monday\, March 7th   Click Here To Register \n\nA link will be sent to all registrants prior to the webinar.
X-ALT-DESC;FMTTYPE=text/html:<p><span dir="ltr">Join us for this FREE&nbsp\;</span><span dir="ltr">Educational Webinar</span></p>\n\n<p><span dir="ltr">Presented by Mindy Felinton with Felinton Elder Law &amp\; Estate Planning Centers</span></p>\n\n<p><span dir="ltr">Navigating the legalities of how to make the best choices for a loved one newly diagnosed with cognitive deficits can be daunting. This free webinar will give you information to understand what is needed to legally make the best decisions for someone with dementia. What is a power of attorney? What does guardianship mean? You&rsquo\;ll have a better understanding of what each one is\, when to obtain one\, information to help you determine which one you need\, and what the process is to make it valid.</span></p>\n\n<p><br />\n<span dir="ltr"><em>Please Register by Monday\, March 7th&nbsp\; &nbsp\;</em><a href="https://www.olneymemorycare.com/communities/olney-assisted-living/events/details/4437/help-someone-i-love-has-dementia-now-what-power-of-attorney-and-guardianship-tell-me-more">Click Here To Register</a>&nbsp\;<br />\nA link will be sent to all registrants prior to the webinar.</span></p>\n
LOCATION:Webinar hosted by Olney Assisted Living\, 16940 Georgia Avenue\, Olney\, MD 20832
UID:e.1793.5522
SEQUENCE:3
DTSTAMP:20260422T094150Z
URL:https://business.olneymd.org/events/details/help-someone-i-love-has-dementia-now-what-power-of-attorney-and-guardianship-tell-me-more-5522
END:VEVENT

END:VCALENDAR
