BEGIN:VCALENDAR
VERSION:2.0
PRODID:-//ChamberMaster//Event Calendar 2.0//EN
METHOD:PUBLISH
X-PUBLISHED-TTL:P3D
REFRESH-INTERVAL:P3D
CALSCALE:GREGORIAN
BEGIN:VEVENT
DTSTART:20220124T140000Z
DTEND:20220215T000000Z
X-MICROSOFT-CDO-ALLDAYEVENT:FALSE
SUMMARY:Hearts for Heroes
DESCRIPTION:Please help us celebrate our heroes! Every person who has been affected by dementia is a hero. Whether they have a diagnosis of dementia\, are a family with a loved one who has dementia or a caregiver for someone with dementia - the battle they fight every day is huge and we want to recognize them with an outpouring of love.\n\n\n\nBetween January 24\, 2022 and February 14\, 2022\, Olney Assisted Living will be collecting donations for the Alzheimer's Association. Everyone who donates will be given the opportunity to write on a heart an inspirational message\, the name of a loved who has dementia\, a caregiver's name\, or a family name. The hearts will be hung outside for all to see in an effort to bring awareness and support of the Alzheimer's Association and the impact they have on the community of Olney.\n\n\n\nDonations accepted at Olney Assisted Living\, 16940 Georgia Ave.\, Olney\, MD 20832 Mon-Fri 9:00am-7:00pm and Sat-Sun 9:00am-3:00pm. For more information\, please call 240.389.9371.
X-ALT-DESC;FMTTYPE=text/html:<span style="color:rgba(0\, 0\, 0\, 0.9)\; font-family:-apple-system\,system-ui\,blinkmacsystemfont\,segoe ui\,roboto\,helvetica neue\,fira sans\,ubuntu\,oxygen\,oxygen sans\,cantarell\,droid sans\,apple color emoji\,segoe ui emoji\,segoe ui emoji\,segoe ui symbol\,lucida grande\,helvetica\,arial\,sans-serif\; font-size:14px">Please help us celebrate our heroes! Every person who has been affected by dementia is a hero. Whether they have a diagnosis of dementia\, are a family with a loved one who has dementia or a caregiver for someone with dementia - the battle they fight every day is huge and we want to recognize them with an outpouring of love.</span><br />\n<br />\n<span style="color:rgba(0\, 0\, 0\, 0.9)\; font-family:-apple-system\,system-ui\,blinkmacsystemfont\,segoe ui\,roboto\,helvetica neue\,fira sans\,ubuntu\,oxygen\,oxygen sans\,cantarell\,droid sans\,apple color emoji\,segoe ui emoji\,segoe ui emoji\,segoe ui symbol\,lucida grande\,helvetica\,arial\,sans-serif\; font-size:14px">Between January 24\, 2022 and February 14\, 2022\, Olney Assisted Living will be collecting donations for the Alzheimer&#39\;s Association. Everyone who donates will be given the opportunity to write on a heart an inspirational message\, the name of a loved who has dementia\, a caregiver&#39\;s name\, or a family name. The hearts will be hung outside for all to see in an effort to bring awareness and support of the Alzheimer&#39\;s Association and the impact they have on the community of Olney.</span><br />\n<br />\n<span style="color:rgba(0\, 0\, 0\, 0.9)\; font-family:-apple-system\,system-ui\,blinkmacsystemfont\,segoe ui\,roboto\,helvetica neue\,fira sans\,ubuntu\,oxygen\,oxygen sans\,cantarell\,droid sans\,apple color emoji\,segoe ui emoji\,segoe ui emoji\,segoe ui symbol\,lucida grande\,helvetica\,arial\,sans-serif\; font-size:14px">Donations accepted at Olney Assisted Living\, 16940 Georgia Ave.\, Olney\, MD 20832 Mon-Fri 9:00am-7:00pm and Sat-Sun 9:00am-3:00pm. For more information\, please call 240.389.9371.</span>
LOCATION:Olney Assisted Living\, 16940 Georgia Avenue\, Olney\, MD 20832
UID:e.1793.5519
SEQUENCE:3
DTSTAMP:20260422T111009Z
URL:https://business.olneymd.org/events/details/hearts-for-heroes-5519
END:VEVENT

END:VCALENDAR
