BEGIN:VCALENDAR
VERSION:2.0
PRODID:-//ChamberMaster//Event Calendar 2.0//EN
METHOD:PUBLISH
X-PUBLISHED-TTL:P3D
REFRESH-INTERVAL:P3D
CALSCALE:GREGORIAN
BEGIN:VEVENT
DTSTART;VALUE=DATE:20220209
DTEND;VALUE=DATE:20220210
TRANSP:TRANSPARENT
X-MICROSOFT-CDO-ALLDAYEVENT:TRUE
SUMMARY:Funeral for ED RAMSEY\, Olney Post Office employee
DESCRIPTION:Remembering Ed Ramsey\, the always-cheerful Olney Post Office employee. He will be truly missed by our community.\n\n\n\n\nObituary for\n\nEdward Lawrence Ramsey\n\nEdward Lawrence Ramsey was born in Brunswick\, Georgia on December 2\, 1955 and departed this life on January 29\, 2022 following a brief heart-related illness.\n\nEd spent over 20 years proudly serving in the United States Army. His duty stations included military installations in Panama\, Louisiana\, Walter Reed Medical Center in Washington DC\, and Fort Sam Houston\, in San Antonio\, Texas. Following his military retirement\, Ed served as a clerk in the United States Postal Service for 27 years. Most of those years were spent at his beloved Olney Post Office where every customer became a friend.\n\nEd enjoyed his side operation as a lawn care specialist and enjoyed meeting and greeting his weekly customers. Ed believed that in addition to a daytime job\, one should also have a side job. He taught this principle to all of his hardworking sons. Ed was also known for his love of automobiles and enjoyed working on his vintage BMW M3 which he continued to drive every day. His Sunday grill sessions during the warm spring and summer months were relaxed yet unforgettable.\n\nHe leaves to mourn his loving wife of 31 years Sharon Mosley Ramsey\, and 4 sons\, Edward Spencer of Germantown\, Md\, Lance Stanton and Hunter Shane of the home\, and oldest son Marcus Ramsey of Virginia Beach\, Va\, a brother Bobby Ramsey of New Orleans\, 3 grandchildren Sydney Moss\, Teonnie Wood\, and Ayden Collins- all of Virginia\, and sisters-in-law Cynthia Mosley Coleman (Ron) of Ellicott City\, MD\, Sharon's twin sister\, Karen Mosley of Durham\, NC\, an aunt Delores Delcine Hester of Ashton\, Md\, 4 nieces and nephews Derek\, Courtney\, Noelle\, CJ and a host of friends in his loving community of Olney\, Maryland.
X-ALT-DESC;FMTTYPE=text/html:<div class="kvgmc6g5 cxmmr5t8 oygrvhab hcukyx3x c1et5uql ii04i59q" style="overflow-wrap: break-word\; margin: 0px\; white-space: pre-wrap\; font-family: system-ui\, -apple-system\, &quot\;system-ui&quot\;\, &quot\;.SFNSText-Regular&quot\;\, sans-serif\; color: rgb(5\, 5\, 5)\; font-size: 15px\;">\n<div dir="auto" style="font-family: inherit\;"><span style="font-size:20px\;"><span style="font-family:arial\;"><strong>Remembering Ed Ramsey\, the always-cheerful Olney Post Office employee. He will be truly missed by our community.</strong></span></span></div>\n</div>\n\n<div class="cxmmr5t8 oygrvhab hcukyx3x c1et5uql o9v6fnle ii04i59q" style="overflow-wrap: break-word\; margin: 0.5em 0px 0px\; white-space: pre-wrap\; font-family: system-ui\, -apple-system\, &quot\;system-ui&quot\;\, &quot\;.SFNSText-Regular&quot\;\, sans-serif\; color: rgb(5\, 5\, 5)\; font-size: 15px\;">\n<div dir="auto" style="font-family: inherit\;">\n<h2 class="no-banner" style="box-sizing: content-box\; font-family: Georgia\, Arial\, Helvetica\, sans-serif\; line-height: 30px\; color: rgb(102\, 102\, 102)\; margin: 25px 0px 0px\; font-size: 26px\; padding: 7px 0px 15px\; border: 0px\; outline: 0px\; vertical-align: baseline\; background-image: initial\; background-position: 0px 0px\; background-size: initial\; background-repeat: initial\; background-attachment: initial\; background-origin: initial\; background-clip: initial\; width: 600px\; height: auto\; float: none\; position: static\; clear: none\; min-height: 32px\; text-align: justify\;">Obituary for<br />\nEdward Lawrence Ramsey</h2>\n\n<div class="obituary-text" style="box-sizing: content-box\; margin: 0px\; padding: 0px\; border: 0px\; outline: 0px\; font-size: 14px\; vertical-align: baseline\; background-image: initial\; background-position: 0px 0px\; background-size: initial\; background-repeat: initial\; background-attachment: initial\; background-origin: initial\; background-clip: initial\; width: auto\; height: auto\; float: none\; position: static\; line-height: 22px\; font-family: Arial\, Helvetica\, sans-serif\; clear: none\; color: rgb(64\, 64\, 64)\; display: inline\; text-align: justify\;">Edward Lawrence Ramsey was born in Brunswick\, Georgia on December 2\, 1955 and departed this life on January 29\, 2022 following a brief heart-related illness.<br style="box-sizing: content-box\;" />\nEd spent over 20 years proudly serving in the United States Army. His duty stations included military installations in Panama\, Louisiana\, Walter Reed Medical Center in Washington DC\, and Fort Sam Houston\, in San Antonio\, Texas. Following his military retirement\, Ed served as a clerk in the United States Postal Service for 27 years. Most of those years were spent at his beloved Olney Post Office where every customer became a friend.<br style="box-sizing: content-box\;" />\nEd enjoyed his side operation as a lawn care specialist and enjoyed meeting and greeting his weekly customers. Ed believed that in addition to a daytime job\, one should also have a side job. He taught this principle to all of his hardworking sons. Ed was also known for his love of automobiles and enjoyed working on his vintage BMW M3 which he continued to drive every day. His Sunday grill sessions during the warm spring and summer months were relaxed yet unforgettable.<br style="box-sizing: content-box\;" />\nHe leaves to mourn his loving wife of 31 years Sharon Mosley Ramsey\, and 4 sons\, Edward Spencer of Germantown\, Md\, Lance Stanton and Hunter Shane of the home\, and oldest son Marcus Ramsey of Virginia Beach\, Va\, a brother Bobby Ramsey of New Orleans\, 3 grandchildren Sydney Moss\, Teonnie Wood\, and Ayden Collins- all of Virginia\, and sisters-in-law Cynthia Mosley Coleman (Ron) of Ellicott City\, MD\, Sharon&rsquo\;s twin sister\, Karen Mosley of Durham\, NC\, an aunt Delores Delcine Hester of Ashton\, Md\, 4 nieces and nephews Derek\, Courtney\, Noelle\, CJ and a host of friends in his loving community of Olney\, Maryland.</div>\n</div>\n</div>\n
LOCATION:VISITATION Feb. 9 11:00 AM - 12:00 PM March Life Tribute Center\, P.A. 7601 Sandy Spring Road Laurel\, MD 20707 FUNERAL SERVICE (will be livestreamed) Feb. 9\, 12:00 PM March Life Tribute Center\, P.A 7601 Sandy Spring Road Laurel\, MD 20707
UID:e.1793.5523
SEQUENCE:3
DTSTAMP:20260422T110617Z
URL:https://business.olneymd.org/events/details/funeral-for-ed-ramsey-olney-post-office-employee-5523
END:VEVENT

END:VCALENDAR
