BEGIN:VCALENDAR
VERSION:2.0
PRODID:-//ChamberMaster//Event Calendar 2.0//EN
METHOD:PUBLISH
X-PUBLISHED-TTL:P3D
REFRESH-INTERVAL:P3D
CALSCALE:GREGORIAN
BEGIN:VEVENT
DTSTART:20250417T140000Z
DTEND:20250417T180000Z
X-MICROSOFT-CDO-ALLDAYEVENT:FALSE
SUMMARY:Friends House Wellness Expo
DESCRIPTION:Join us for the First Annual Friends House Wellness Expo\, a premier event bringing together wellness professionals\, healthcare providers\, and community organizations dedicated to promoting healthy aging and holistic well-being.\n\n \n\nStay tuned for updates and a sneak peek of our vendors!
X-ALT-DESC;FMTTYPE=text/html:<div>Join us for the First Annual Friends House Wellness Expo\, a premier event bringing together wellness professionals\, healthcare providers\, and community organizations dedicated to promoting healthy aging and holistic well-being.</div>\n\n<p>&nbsp\;</p>\n\n<div>Stay tuned for updates and a sneak peek of our vendors!</div>\n
LOCATION:17340 Quaker Lane\, Sandy Spring
UID:e.1793.6621
SEQUENCE:3
DTSTAMP:20260421T114229Z
URL:https://business.olneymd.org/events/details/friends-house-wellness-expo-6621
END:VEVENT

END:VCALENDAR
