BEGIN:VCALENDAR
VERSION:2.0
PRODID:-//ChamberMaster//Event Calendar 2.0//EN
METHOD:PUBLISH
X-PUBLISHED-TTL:P3D
REFRESH-INTERVAL:P3D
CALSCALE:GREGORIAN
BEGIN:VEVENT
DTSTART:20250620T190000Z
DTEND:20250620T210000Z
X-MICROSOFT-CDO-ALLDAYEVENT:FALSE
SUMMARY:Friends House Presents Dementia Man: A Conversation Between Life & Research
DESCRIPTION:You're invited to a powerful presentation hosted by Friends House.\n\nThis first-ever joint event features award-winning playwright and actor Sam Simon\, who brings humor and honesty to his personal journey with Alzheimer's\, and Dr. Cameron Camp\, a globally recognized dementia researcher known for pioneering the use of Montessori principles in memory care.\n\nDownload PDF for more details\n\nAdmission is free\, but space is limited. RSVP required.\n\nRSVP Today!
X-ALT-DESC;FMTTYPE=text/html:<p>You&rsquo\;re invited to a powerful presentation hosted by Friends House.</p>\n\n<p>This first-ever joint event features award-winning playwright and actor&nbsp\;<a href="https://friendshouse.us10.list-manage.com/track/click?u=cf43e46f9299b41f222a75992&amp\;id=32373ee009&amp\;e=11443ba344" rel="noopener" style="box-sizing: border-box\; margin: 0px\; padding: 0px\; outline: 0px\; cursor: pointer\; text-decoration-line: none\; font-size: 1em\; line-height: 1.5\; color: rgb(20\, 24\, 39)\; border-bottom: 1px solid rgb(51\, 74\, 255)\; transition: color 0.2s\;" target="_blank">Sam Simon</a>\, who brings humor and honesty to his personal journey with Alzheimer&rsquo\;s\, and&nbsp\;<a href="https://friendshouse.us10.list-manage.com/track/click?u=cf43e46f9299b41f222a75992&amp\;id=ad55a97f95&amp\;e=11443ba344" rel="noopener" style="box-sizing: border-box\; margin: 0px\; padding: 0px\; outline: 0px\; cursor: pointer\; text-decoration-line: none\; font-size: 1em\; line-height: 1.5\; color: rgb(20\, 24\, 39)\; border-bottom: 1px solid rgb(51\, 74\, 255)\; transition: color 0.2s\;" target="_blank">Dr. Cameron Camp</a>\, a globally recognized dementia researcher known for pioneering the use of Montessori principles in memory care.</p>\n\n<p><a href="https://friendshouse.com/wp-content/uploads/2025/06/FH-5490-DementiaMan_Flyer-Public.pdf" rel="noopener" style="box-sizing: border-box\; margin: 0px\; padding: 0px\; outline: 0px\; cursor: pointer\; text-decoration-line: none\; font-size: 1em\; line-height: 1.5\; color: rgb(20\, 24\, 39)\; border-bottom: 1px solid rgb(51\, 74\, 255)\; transition: color 0.2s\;" target="_blank">Download PDF for more details</a></p>\n\n<p>Admission is free\, but space is limited. RSVP required.</p>\n\n<p><a href="https://forms.gle/e1ifTSdQ7dcYByKj6" rel="noopener" style="box-sizing: border-box\; margin: 0px\; padding: 0px\; outline: 0px\; cursor: pointer\; text-decoration-line: none\; font-size: 1em\; line-height: 1.5\; color: rgb(20\, 24\, 39)\; border-bottom: 1px solid rgb(51\, 74\, 255)\; transition: color 0.2s\;" target="_blank">RSVP Today!</a></p>\n
LOCATION:
UID:e.1793.6989
SEQUENCE:3
DTSTAMP:20260419T170729Z
URL:https://business.olneymd.org/events/details/friends-house-presents-dementia-man-a-conversation-between-life-research-6989
END:VEVENT

END:VCALENDAR
