BEGIN:VCALENDAR
VERSION:2.0
PRODID:-//ChamberMaster//Event Calendar 2.0//EN
METHOD:PUBLISH
X-PUBLISHED-TTL:P3D
REFRESH-INTERVAL:P3D
CALSCALE:GREGORIAN
BEGIN:VEVENT
DTSTART:20251004T150000Z
DTEND:20251004T200000Z
X-MICROSOFT-CDO-ALLDAYEVENT:FALSE
SUMMARY:Friends House Fall Festival
DESCRIPTION:Celebrate fall with an afternoon of community\, connection\, and caring at Friends House! This free\, family-friendly event features:\n\n  Baltimore Pit Beef BBQ by Bim \n\n  Live Silent Auction with handcrafted goods\, gift baskets\, and a 2-night quiet getaway in the Catoctin Mountains\n\n  Bounce houses (courtesy of Empire Inflatables)\n\n  Face painting\, tarot card readings\, and local handmade crafts\n\n  Resident-made woodwork\, garden plant sales\, and fresh fruit\n\n  Live music and activities for all ages\n\nAll net proceeds benefit the Friends House Caring Fund\, supporting residents who have outlived their financial resources.\n\n?? Learn more and view full event details at:\n\nFriendsHouseFallFestival.com
X-ALT-DESC;FMTTYPE=text/html:<p>Celebrate fall with an afternoon of <strong>community\, connection\, and caring</strong> at Friends House! This free\, family-friendly event features:</p>\n\n<p>&bull\; Baltimore Pit Beef BBQ by Bim&nbsp\;<br />\n&bull\; Live Silent Auction with handcrafted goods\, gift baskets\, and a <strong>2-night quiet getaway in the Catoctin Mountains</strong><br />\n&bull\; Bounce houses (courtesy of Empire Inflatables)<br />\n&bull\; Face painting\, tarot card readings\, and local handmade crafts<br />\n&bull\; Resident-made woodwork\, garden plant sales\, and fresh fruit<br />\n&bull\; Live music and activities for all ages</p>\n\n<p>All net proceeds benefit the Friends House Caring Fund\, supporting residents who have outlived their financial resources.</p>\n\n<p>?? <strong>Learn more and view full event details at:</strong><br />\n<a class="decorated-link" href="https://www.friendshousefallfestival.com" rel="noopener" target="_new">FriendsHouseFallFestival.com</a></p>\n\n<p>&nbsp\;</p>\n
LOCATION:Friends House Retirement Community 17340 Quaker Lane\, Sandy Spring\, MD
UID:e.1793.7058
SEQUENCE:3
DTSTAMP:20260421T195526Z
URL:https://business.olneymd.org/events/details/friends-house-fall-festival-10-04-2025-7058
END:VEVENT

END:VCALENDAR
