BEGIN:VCALENDAR
VERSION:2.0
PRODID:-//ChamberMaster//Event Calendar 2.0//EN
METHOD:PUBLISH
X-PUBLISHED-TTL:P3D
REFRESH-INTERVAL:P3D
CALSCALE:GREGORIAN
BEGIN:VEVENT
DTSTART:20250220T223000Z
DTEND:20250221T003000Z
X-MICROSOFT-CDO-ALLDAYEVENT:FALSE
SUMMARY:February Networking Mixer: Waredaca Brewing Company
DESCRIPTION:Join Us at Waredaca Brewing Company for Our February Networking Mixer!\n\nLooking to connect\, collaborate\, and grow your business? Don't miss our Monthly Networking Mixer! This is the perfect opportunity to meet fellow Chamber members\, exchange ideas\, and build valuable relationships in a relaxed and friendly environment.\n\nWhether you're new to the area or a seasoned professional\, this event offers something for everyone. Grab a drink\, make new connections\, and unlock potential partnerships that could take your business to the next level.\n\n  Date: February 20\, 2025\n\n  Time: 5:30-7:30 p.m.\n\n  Location: Waredaca Brewing Company\n\nRSVP today and come ready to mingle\, share\, and grow! We can't wait to see you there.\n\n#Networking #BusinessGrowth #ChamberMixer #OlneyBusiness
X-ALT-DESC;FMTTYPE=text/html:<p>&#127881\;&nbsp\;<strong>Join Us at Waredaca Brewing Company&nbsp\;for Our February Networking Mixer!</strong></p>\n\n<p>Looking to connect\, collaborate\, and grow your business? Don&rsquo\;t miss our&nbsp\;<strong>Monthly Networking Mixer</strong>! This is the perfect opportunity to meet fellow Chamber members\, exchange ideas\, and build valuable relationships in a relaxed and friendly environment.</p>\n\n<p>Whether you&#39\;re new to the area or a seasoned professional\, this event offers something for everyone. Grab a drink\, make new connections\, and unlock potential partnerships that could take your business to the next level.</p>\n\n<p>&#128467\;&nbsp\;<strong>Date</strong>: February 20\, 2025<br />\n&#128338\;&nbsp\;<strong>Time</strong>: 5:30-7:30 p.m.<br />\n&#128205\;&nbsp\;<strong>Location</strong>: Waredaca Brewing Company</p>\n\n<p><strong>RSVP today</strong>&nbsp\;and come ready to mingle\, share\, and grow! We can&#39\;t wait to see you there.</p>\n\n<p>#Networking #BusinessGrowth #ChamberMixer #OlneyBusiness</p>\n
LOCATION:Waredaca Brewing Company
UID:e.1793.6342
SEQUENCE:3
DTSTAMP:20260421T113850Z
URL:https://business.olneymd.org/events/details/february-networking-mixer-waredaca-brewing-company-6342
END:VEVENT

END:VCALENDAR
