BEGIN:VCALENDAR
VERSION:2.0
PRODID:-//ChamberMaster//Event Calendar 2.0//EN
METHOD:PUBLISH
X-PUBLISHED-TTL:P3D
REFRESH-INTERVAL:P3D
CALSCALE:GREGORIAN
BEGIN:VEVENT
DTSTART:20220216T170000Z
DTEND:20220216T180000Z
X-MICROSOFT-CDO-ALLDAYEVENT:FALSE
SUMMARY:Fall Prevention: Keeping Your Loved One Safe
DESCRIPTION:Join us for this FREE Educational Webinar\n\nRSI-Rehabilitation Services\, Inc. presenters: Jennifer Werdell\, MS\, PT\, GCS\, DPT\, CDP\, LSVT BIG  certified physical therapist\; Liza Lisay\, PT\, DPT\, CLT\, CDP\; Lisa Bell\, OTR/L\,CDP\n\nAccording to the CDC\, millions of people 65 and older fall each year. Are you worried your loved one isn't safe moving around in their home? Are there things you can do to minimize the likelihood of a fall? Whether your loved one is in a private residence or a supervised community\, we know you want to do everything possible to keep them safe. Join RSI and Olney Assisted Living for a heart-to-heart conversation on what you can do or what you should look for to help prevent a fall before it happens. RSI's team of therapists will guide you through the fundamentals of fall prevention and answer all your questions.\n\nPlease Register by Tuesday\, February 15th at TheArtisWay.com/OlneyEvents
X-ALT-DESC;FMTTYPE=text/html:<p><span dir="ltr">Join us for this FREE Educational Webinar</span></p>\n\n<p><span dir="ltr">RSI-Rehabilitation Services\, Inc. presenters: Jennifer Werdell\, MS\, PT\, GCS\, DPT\, CDP\, LSVT BIG&reg\;&nbsp\;</span><span dir="ltr">certified physical therapist\; Liza Lisay\, PT\, DPT\, CLT\, CDP\; Lisa Bell\, OTR/L\,CDP</span></p>\n\n<p><span dir="ltr">According to the CDC\, millions of people 65 and older fall each year. Are you worried your loved one isn&rsquo\;t safe moving around in their home? Are there things you can do to minimize the likelihood of a fall? Whether your loved one is in a private residence or a supervised community\, we know you want to do everything possible to keep them safe. Join RSI and Olney Assisted Living for a heart-to-heart conversation on what you can do or what you should look for to help prevent a fall before it happens. RSI&rsquo\;s team of therapists will guide you through the fundamentals of fall prevention and answer all your questions.</span></p>\n\n<p><em><span dir="ltr">Please Register by Tuesday\, February 15th at <a href="http://TheArtisWay.com/OlneyEvents">TheArtisWay.com/OlneyEvents</a></span></em></p>\n
LOCATION:
UID:e.1793.5386
SEQUENCE:3
DTSTAMP:20260422T105707Z
URL:https://business.olneymd.org/events/details/fall-prevention-keeping-your-loved-one-safe-5386
END:VEVENT

END:VCALENDAR
