BEGIN:VCALENDAR
VERSION:2.0
PRODID:-//ChamberMaster//Event Calendar 2.0//EN
METHOD:PUBLISH
X-PUBLISHED-TTL:P3D
REFRESH-INTERVAL:P3D
CALSCALE:GREGORIAN
BEGIN:VEVENT
DTSTART:20250207T160000Z
DTEND:20250207T170000Z
X-MICROSOFT-CDO-ALLDAYEVENT:FALSE
SUMMARY:Event Tabling Mastery: Maximize Your Impact!
DESCRIPTION:Maximize Your Impact at Olney's 43rd Community Day!  \n\nJust in time for the highly anticipated Olney's 43rd Community Day\, get ready to elevate your event tabling strategies and boost your sales efforts!  \n\nJoin Chamber members Jenna Boig of Marigold Consulting and Sarah Broder of Fisher Broyles for an interactive session packed with expert tips and actionable insights. Learn how to:\n\n  Design an eye-catching and effective table setup\n\n  Engage attendees in meaningful conversations that lead to conversions\n\n  Implement best practices for post-event follow-up to keep the momentum going\n\nThis session is designed to help you create a standout presence at Community Day and turn your tabling efforts into tangible\, long-term results. Don't miss this opportunity to enhance your event strategy and drive success!\n\nReady to make a lasting impact? Mark your calendars and join us!
X-ALT-DESC;FMTTYPE=text/html:<p>&#127775\; <strong>Maximize Your Impact at Olney&#39\;s 43rd Community Day!</strong> &#127775\;</p>\n\n<p>Just in time for the highly anticipated Olney&rsquo\;s 43rd Community Day\, get ready to elevate your event tabling strategies and boost your sales efforts! &#128640\;</p>\n\n<p>Join Chamber members <strong>Jenna Boig</strong> of Marigold Consulting and <strong>Sarah Broder</strong> of Fisher Broyles for an interactive session packed with expert tips and actionable insights. Learn how to:</p>\n\n<p>&#10024\; Design an eye-catching and effective table setup<br />\n&#10024\; Engage attendees in meaningful conversations that lead to conversions<br />\n&#10024\; Implement best practices for post-event follow-up to keep the momentum going</p>\n\n<p>This session is designed to help you create a standout presence at Community Day and turn your tabling efforts into tangible\, long-term results. Don&rsquo\;t miss this opportunity to enhance your event strategy and drive success!</p>\n\n<p>Ready to make a lasting impact? Mark your calendars and join us! &#128197\;</p>\n
LOCATION:The Brookeville Academy 5 High Street Brookeville\, MD 20833 (Additional parking located across the street behind Salem United Methodist Church)
UID:e.1793.6341
SEQUENCE:3
DTSTAMP:20260420T231903Z
URL:https://business.olneymd.org/events/details/event-tabling-mastery-maximize-your-impact-6341
END:VEVENT

END:VCALENDAR
