BEGIN:VCALENDAR
VERSION:2.0
PRODID:-//ChamberMaster//Event Calendar 2.0//EN
METHOD:PUBLISH
X-PUBLISHED-TTL:P3D
REFRESH-INTERVAL:P3D
CALSCALE:GREGORIAN
BEGIN:VEVENT
DTSTART:20260318T150000Z
DTEND:20260318T160000Z
X-MICROSOFT-CDO-ALLDAYEVENT:FALSE
SUMMARY:Elegant Design: Small Bathroom Spaces Lunch & Learn
DESCRIPTION:Thinking about upgrading a small bathroom space but not sure where to start? ???\n\nJoin House to Home Solutions for a complimentary Lunch & Learn on smart\, stylish design for compact bathrooms.\n\nLearn how thoughtful design choices   from wall-mounted toilets to sleek pedestal and console sinks   can transform even the smallest bathroom into a beautiful and functional space.\n\nWednesday\, March 18\, 2026\n\n11:00 AM\n\nHouse to Home Solutions   Rockville\n\nLunch & refreshments provided\n\n?? Space is limited!\n\nRegister by March 11 to reserve your seat:\n\nhttps://share.hsforms.com/1kQ6yagdYR1ip7Ge3jK83rwebk56\n\n#OlneyChamber #LunchAndLearn #HomeDesign #BathroomRemodel #SmallSpaceDesign
X-ALT-DESC;FMTTYPE=text/html:<p>Thinking about upgrading a&nbsp\;<strong>small bathroom space</strong>&nbsp\;but not sure where to start? ???</p>\n\n<p>Join House to Home Solutions for a&nbsp\;<strong>complimentary Lunch &amp\; Learn</strong>&nbsp\;on smart\, stylish design for compact bathrooms.</p>\n\n<p>Learn how thoughtful design choices &mdash\; from&nbsp\;<strong>wall-mounted toilets to sleek pedestal and console sinks</strong>&nbsp\;&mdash\; can transform even the smallest bathroom into a beautiful and functional space.</p>\n\n<p><strong>Wednesday\, March 18\, 2026</strong><br />\n<strong>11:00 AM</strong><br />\nHouse to Home Solutions &ndash\; Rockville<br />\n<strong>Lunch &amp\; refreshments provided</strong></p>\n\n<p>??&nbsp\;<strong>Space is limited!</strong></p>\n\n<p><strong>Register by March 11 to reserve your seat:</strong><br />\nhttps://share.hsforms.com/1kQ6yagdYR1ip7Ge3jK83rwebk56</p>\n\n<p>#OlneyChamber #LunchAndLearn #HomeDesign #BathroomRemodel #SmallSpaceDesign</p>\n
LOCATION:House to Home Solutions 15745 Crabbs Branch Way Rockville\, MD 20855
UID:e.1793.7565
SEQUENCE:3
DTSTAMP:20260421T143628Z
URL:https://business.olneymd.org/events/details/elegant-design-small-bathroom-spaces-lunch-learn-7565
END:VEVENT

END:VCALENDAR
