BEGIN:VCALENDAR
VERSION:2.0
PRODID:-//ChamberMaster//Event Calendar 2.0//EN
METHOD:PUBLISH
X-PUBLISHED-TTL:P3D
REFRESH-INTERVAL:P3D
CALSCALE:GREGORIAN
BEGIN:VEVENT
DTSTART:20250828T140000Z
DTEND:20250828T150000Z
X-MICROSOFT-CDO-ALLDAYEVENT:FALSE
SUMMARY:Edward Jones Coffee Club
DESCRIPTION:Join us for a casual discussion of current events\, the economy and investing.  We look forward to seeing you!
X-ALT-DESC;FMTTYPE=text/html:Join us for a casual discussion of current events\, the economy and investing.&nbsp\; We look forward to seeing you!
LOCATION:This event is being presented as a webinar. To RSVP and receive webinar details\, contact Randy Nittoli at 301-774-6026 or email randolph.nittoli@edwardjones.com.
UID:e.1793.7021
SEQUENCE:3
DTSTAMP:20260421T130642Z
URL:https://business.olneymd.org/events/details/edward-jones-coffee-club-7021
END:VEVENT

END:VCALENDAR
