BEGIN:VCALENDAR
VERSION:2.0
PRODID:-//ChamberMaster//Event Calendar 2.0//EN
METHOD:PUBLISH
X-PUBLISHED-TTL:P3D
REFRESH-INTERVAL:P3D
CALSCALE:GREGORIAN
BEGIN:VEVENT
DTSTART:20220315T223000Z
DTEND:20220315T233000Z
X-MICROSOFT-CDO-ALLDAYEVENT:FALSE
SUMMARY:Dementia in 2022
DESCRIPTION:Presented by Brent P. Forester MD\, MSc\, chief\, division of geriatric psychiatry\, McLean Hospital\; medical director\, behavioral health integration\, Partners HealthCare\; associate professor of Psychiatry\, Harvard Medical School\; and co-president\, American Association for Geriatric Psychiatry\n\nScientists and clinicians worldwide are making advances in the research and treatment of dementia. Dr. Forester will present an update on those advances\, provide the latest information on current diagnosis methods\, and review the effectiveness of approved therapies for dementia. He will also delve into the impact of behavioral symptoms of dementia. Finally\, he will present the latest research into disease modifying treatments and your opportunities to enhance healthy brain aging.\n\n6:30 p.m. ET (5:30 p.m. CT)
X-ALT-DESC;FMTTYPE=text/html:<p><em>Presented by Brent P. Forester MD\, MSc\, chief\, division of geriatric psychiatry\, McLean Hospital\; medical director\, behavioral health integration\, Partners HealthCare\; associate professor of Psychiatry\, Harvard Medical School\; and co-president\, American Association for Geriatric Psychiatry</em></p>\n\n<p>Scientists and clinicians worldwide are making advances in the research and treatment of dementia. Dr. Forester will present an update on those advances\, provide the latest information on current diagnosis methods\, and review the effectiveness of approved therapies for dementia. He will also delve into the impact of behavioral symptoms of dementia. Finally\, he will present the latest research into disease modifying treatments and your opportunities to enhance healthy brain aging.</p>\n\n<p>6:30 p.m.&nbsp\;ET (5:30&nbsp\;p.m.&nbsp\;CT)</p>\n
LOCATION:Webinar
UID:e.1793.5527
SEQUENCE:3
DTSTAMP:20260422T105806Z
URL:https://business.olneymd.org/events/details/dementia-in-2022-5527
END:VEVENT

END:VCALENDAR
