BEGIN:VCALENDAR
VERSION:2.0
PRODID:-//ChamberMaster//Event Calendar 2.0//EN
METHOD:PUBLISH
X-PUBLISHED-TTL:P3D
REFRESH-INTERVAL:P3D
CALSCALE:GREGORIAN
BEGIN:VEVENT
DTSTART:20220724T220000Z
DTEND:20220725T010000Z
X-MICROSOFT-CDO-ALLDAYEVENT:FALSE
SUMMARY:Corks for a Cause & Bingo
DESCRIPTION:The Women's Board will be hosting Corks for a Cause & Bingo event on Sunday\, July 24 at 6 p.m. at the Olney Winery. \n\n\n\nBring a friend/spouse\, network and enjoy 8 games of Bingo (with fabulous prizes for the winners)\, wine\, and delicious eats while raising money for our student scholarships in healthcare and to support MedStar Montgomery Medical Center.\n\n\n\n\n\nTickets are $30.00 and we only have 60 seats\, so register early. \n\n\n\nTickets at the door will be $40.00\n\n\n\nYour experience includes:\n\n         8 Bingo games with great prizes!\n\n\n\n         1 reusable BINGO card (additional cards available for $5 each)\n\n\n\n         1 glass of wine of your choosing\n\n\n\n         Complimentary appetizers\n\n\n\n         $3.00 wine voucher from Olney Winery to be applied to wine bottle purchase. Custom Women's Board wine label also available. The WB will receive $10 per bottle sold!\n\n\n\n         Silent auction items\n\n\n\nClick this Link to Register & Buy Tickets
X-ALT-DESC;FMTTYPE=text/html:<span style="font-size:22px\;"><span style="font-family: Calibri\, sans-serif\;"><strong>&nbsp\;The Women&#39\;s Board</strong> will be hosting&nbsp\;<b>Corks for a Cause &amp\; Bingo&nbsp\;</b>event on&nbsp\;<b>Sunday\, July 24 at 6 p.m. at the Olney Winery.</b>&nbsp\;<br />\n<br />\nBring a friend/spouse\, network and enjoy 8 games of Bingo (with fabulous prizes for the winners)\, wine\, and delicious eats while raising money for our student scholarships in healthcare&nbsp\;and to support MedStar Montgomery Medical Center.</span></span><br />\n<br />\n<br />\n<strong style="color: rgb(51\, 51\, 51)\; font-family: sans-serif\, Arial\, Verdana\, &quot\;Trebuchet MS&quot\;\; font-size: 13px\;"><span style="color: black\;"><span style="font-size: 14pt\;">Tickets are $30.00 and we only have 60 seats\, so register early</span></span></strong><span style="font-family: sans-serif\, Arial\, Verdana\, &quot\;Trebuchet MS&quot\;\; font-size: 13px\;"><span style="font-size: 14pt\;">.&nbsp\;</span></span><br style="color: rgb(51\, 51\, 51)\; font-family: sans-serif\, Arial\, Verdana\, &quot\;Trebuchet MS&quot\;\; font-size: 13px\;" />\n<br />\n<span style="font-family: sans-serif\, Arial\, Verdana\, &quot\;Trebuchet MS&quot\;\; font-size: 13px\;"><span style="font-size: 14pt\;">Tickets at the door will be $40.00</span></span><br style="color: rgb(51\, 51\, 51)\; font-family: sans-serif\, Arial\, Verdana\, &quot\;Trebuchet MS&quot\;\; font-size: 13px\;" />\n<br />\n<span style="font-family: sans-serif\, Arial\, Verdana\, &quot\;Trebuchet MS&quot\;\; font-size: 13px\;"><span style="font-size: 14pt\;">Your experience includes:</span></span><br />\n<span style="font-family: sans-serif\, Arial\, Verdana\, &quot\;Trebuchet MS&quot\;\; font-size: 13px\; color: rgb(32\, 31\, 30)\;"><span style="font-family: symbol\;">&middot\;</span></span><span style="color: rgb(51\, 51\, 51)\; font-family: sans-serif\, Arial\, Verdana\, &quot\;Trebuchet MS&quot\;\; font-size: 13px\; background-color: rgb(255\, 255\, 255)\;">&nbsp\;&nbsp\;&nbsp\;&nbsp\;&nbsp\;&nbsp\;&nbsp\;&nbsp\;</span><span style="font-family: sans-serif\, Arial\, Verdana\, &quot\;Trebuchet MS&quot\;\; font-size: 13px\;"><span style="font-size: 14pt\;">8 Bingo games with great prizes!</span></span><br />\n<br />\n<span style="font-family: sans-serif\, Arial\, Verdana\, &quot\;Trebuchet MS&quot\;\; font-size: 13px\; color: rgb(32\, 31\, 30)\;"><span style="font-family: symbol\;">&middot\;</span></span><span style="color: rgb(51\, 51\, 51)\; font-family: sans-serif\, Arial\, Verdana\, &quot\;Trebuchet MS&quot\;\; font-size: 13px\; background-color: rgb(255\, 255\, 255)\;">&nbsp\;&nbsp\;&nbsp\;&nbsp\;&nbsp\;&nbsp\;&nbsp\;&nbsp\;</span><span style="font-family: sans-serif\, Arial\, Verdana\, &quot\;Trebuchet MS&quot\;\; font-size: 13px\;"><span style="font-size: 14pt\;">1 reusable BINGO card (additional cards available for $5 each)</span></span><br />\n<br style="color: rgb(51\, 51\, 51)\; font-family: sans-serif\, Arial\, Verdana\, &quot\;Trebuchet MS&quot\;\; font-size: 13px\;" />\n<span style="font-family: sans-serif\, Arial\, Verdana\, &quot\;Trebuchet MS&quot\;\; font-size: 13px\; color: rgb(32\, 31\, 30)\;"><span style="font-family: symbol\;">&middot\;</span></span><span style="color: rgb(51\, 51\, 51)\; font-family: sans-serif\, Arial\, Verdana\, &quot\;Trebuchet MS&quot\;\; font-size: 13px\; background-color: rgb(255\, 255\, 255)\;">&nbsp\;&nbsp\;&nbsp\;&nbsp\;&nbsp\;&nbsp\;&nbsp\;&nbsp\;</span><span style="font-family: sans-serif\, Arial\, Verdana\, &quot\;Trebuchet MS&quot\;\; font-size: 13px\;"><span style="font-size: 14pt\;">1 glass of wine of your choosing</span></span><br />\n<br style="color: rgb(51\, 51\, 51)\; font-family: sans-serif\, Arial\, Verdana\, &quot\;Trebuchet MS&quot\;\; font-size: 13px\;" />\n<span style="font-family: sans-serif\, Arial\, Verdana\, &quot\;Trebuchet MS&quot\;\; font-size: 13px\; color: rgb(32\, 31\, 30)\;"><span style="font-family: symbol\;">&middot\;</span></span><span style="color: rgb(51\, 51\, 51)\; font-family: sans-serif\, Arial\, Verdana\, &quot\;Trebuchet MS&quot\;\; font-size: 13px\; background-color: rgb(255\, 255\, 255)\;">&nbsp\;&nbsp\;&nbsp\;&nbsp\;&nbsp\;&nbsp\;&nbsp\;&nbsp\;</span><span style="font-family: sans-serif\, Arial\, Verdana\, &quot\;Trebuchet MS&quot\;\; font-size: 13px\;"><span style="font-size: 14pt\;">Complimentary appetizers</span></span><br />\n<br style="color: rgb(51\, 51\, 51)\; font-family: sans-serif\, Arial\, Verdana\, &quot\;Trebuchet MS&quot\;\; font-size: 13px\;" />\n<span style="font-family: sans-serif\, Arial\, Verdana\, &quot\;Trebuchet MS&quot\;\; font-size: 13px\; color: rgb(32\, 31\, 30)\;"><span style="font-family: symbol\;">&middot\;</span></span><span style="color: rgb(51\, 51\, 51)\; font-family: sans-serif\, Arial\, Verdana\, &quot\;Trebuchet MS&quot\;\; font-size: 13px\; background-color: rgb(255\, 255\, 255)\;">&nbsp\;&nbsp\;&nbsp\;&nbsp\;&nbsp\;&nbsp\;&nbsp\;&nbsp\;</span><span style="font-family: sans-serif\, Arial\, Verdana\, &quot\;Trebuchet MS&quot\;\; font-size: 13px\;"><span style="font-size: 14pt\;">$3.00 wine voucher from Olney Winery to be&nbsp\;</span></span><span style="font-family: sans-serif\, Arial\, Verdana\, &quot\;Trebuchet MS&quot\;\; font-size: 13px\;"><span style="font-size: 14pt\;">applied to wine bottle purchase. Custom Women&rsquo\;s Board wine label also available. The WB will receive $10 per bottle sold!</span></span><br />\n<br style="color: rgb(51\, 51\, 51)\; font-family: sans-serif\, Arial\, Verdana\, &quot\;Trebuchet MS&quot\;\; font-size: 13px\;" />\n<span style="font-family: sans-serif\, Arial\, Verdana\, &quot\;Trebuchet MS&quot\;\; font-size: 13px\; color: rgb(32\, 31\, 30)\;"><span style="font-family: symbol\;">&middot\;</span></span><span style="color: rgb(51\, 51\, 51)\; font-family: sans-serif\, Arial\, Verdana\, &quot\;Trebuchet MS&quot\;\; font-size: 13px\; background-color: rgb(255\, 255\, 255)\;">&nbsp\;&nbsp\;&nbsp\;&nbsp\;&nbsp\;&nbsp\;&nbsp\;&nbsp\;</span><span style="font-family: sans-serif\, Arial\, Verdana\, &quot\;Trebuchet MS&quot\;\; font-size: 13px\;"><span style="font-size: 14pt\;">Silent auction items</span></span><br />\n<br style="color: rgb(51\, 51\, 51)\; font-family: sans-serif\, Arial\, Verdana\, &quot\;Trebuchet MS&quot\;\; font-size: 13px\;" />\n<span style="color: rgb(51\, 51\, 51)\; font-family: sans-serif\, Arial\, Verdana\, &quot\;Trebuchet MS&quot\;\; font-size: 14pt\;"><a data-saferedirecturl="https://www.google.com/url?q=https://www.olneywinery.com/events/womens-board/&amp\;source=gmail&amp\;ust=1655941878082000&amp\;usg=AOvVaw25b8jDYRJ7UuY0Us7oVBwE" href="https://www.olneywinery.com/events/womens-board/" style="color: rgb(17\, 85\, 204)\;" target="_blank">Click this Link to Register &amp\; Buy Tickets</a></span><br />\n&nbsp\;
LOCATION:The Olney Winery
UID:e.1793.5553
SEQUENCE:3
DTSTAMP:20260422T024149Z
URL:https://business.olneymd.org/events/details/corks-for-a-cause-bingo-5553
END:VEVENT

END:VCALENDAR
