BEGIN:VCALENDAR
VERSION:2.0
PRODID:-//ChamberMaster//Event Calendar 2.0//EN
METHOD:PUBLISH
X-PUBLISHED-TTL:P3D
REFRESH-INTERVAL:P3D
CALSCALE:GREGORIAN
BEGIN:VEVENT
DTSTART:20220514T140000Z
DTEND:20220514T180000Z
X-MICROSOFT-CDO-ALLDAYEVENT:FALSE
SUMMARY:Community Car Wash Benefiting The Parkinson's Foundation
DESCRIPTION:Car Wash to Benefit The Parkingson's Foundation sponsored by:\n\nCandence Living Olney\, Oasis Senior Advisors\, Cherished Hands Home Health Care & Olney Chamber of Commerce  \n\nJoin us on Saturday\, May 14th and get your car washed while doing good! All donations and proceeds will go to support The Parkinson's Foundation!
X-ALT-DESC;FMTTYPE=text/html:<span style="font-size:14px\;">Car Wash to Benefit The Parkingson&#39\;s Foundation sponsored by:<br />\nCandence Living Olney\, Oasis Senior Advisors\, Cherished Hands Home Health Care &amp\; Olney Chamber of Commerce&nbsp\;&nbsp\;</span><br />\nJoin us on Saturday\, May 14th and get your car washed while doing good! All donations and proceeds will go to support The Parkinson&#39\;s Foundation!
LOCATION:Cadence Living Olney 17001 Georgia Avenue Olney\, MD 20832
UID:e.1793.5544
SEQUENCE:3
DTSTAMP:20260422T060328Z
URL:https://business.olneymd.org/events/details/community-car-wash-benefiting-the-parkinson-s-foundation-5544
END:VEVENT

END:VCALENDAR
