BEGIN:VCALENDAR
VERSION:2.0
PRODID:-//ChamberMaster//Event Calendar 2.0//EN
METHOD:PUBLISH
X-PUBLISHED-TTL:P3D
REFRESH-INTERVAL:P3D
CALSCALE:GREGORIAN
BEGIN:VEVENT
DTSTART:20250306T220000Z
DTEND:20250307T000000Z
X-MICROSOFT-CDO-ALLDAYEVENT:FALSE
SUMMARY:Cheers to Social Work!
DESCRIPTION:Join us as we raise a glass in celebration of Social Work Month! This exclusive event invites professionals to unwind and enjoy an evening of networking\, meaningful connection and friendly competition during our luxe bingo bash. Each round of bingo offers the opportunity to win an exciting prize! Don't miss out on this unique opportunity to network and celebrate the incredible contributions social work professionals make to our community.
X-ALT-DESC;FMTTYPE=text/html:Join us as we raise a glass in celebration of Social Work Month! This exclusive event invites professionals to unwind and enjoy an evening of networking\, meaningful connection and friendly competition during our luxe bingo bash. Each round of bingo offers the opportunity to win an exciting prize! Don&rsquo\;t miss out on this unique opportunity to network and celebrate the incredible contributions social work professionals make to our community.
LOCATION:Hebrew Home of Greater Washington\, Wasserman Residence - 6121 Montrose Road\, North Bethesda\, MD
UID:e.1793.6622
SEQUENCE:3
DTSTAMP:20260421T113844Z
URL:https://business.olneymd.org/events/details/cheers-to-social-work-6622
END:VEVENT

END:VCALENDAR
